BEGIN:VCALENDAR
VERSION:2.0
PRODID:-//In Play! magazine - ECPv6.15.20//NONSGML v1.0//EN
CALSCALE:GREGORIAN
METHOD:PUBLISH
X-ORIGINAL-URL:https://inplaymagazine.com
X-WR-CALDESC:Events for In Play! magazine
REFRESH-INTERVAL;VALUE=DURATION:PT1H
X-Robots-Tag:noindex
X-PUBLISHED-TTL:PT1H
BEGIN:VTIMEZONE
TZID:America/Toronto
BEGIN:DAYLIGHT
TZOFFSETFROM:-0500
TZOFFSETTO:-0400
TZNAME:EDT
DTSTART:20200308T070000
END:DAYLIGHT
BEGIN:STANDARD
TZOFFSETFROM:-0400
TZOFFSETTO:-0500
TZNAME:EST
DTSTART:20201101T060000
END:STANDARD
BEGIN:DAYLIGHT
TZOFFSETFROM:-0500
TZOFFSETTO:-0400
TZNAME:EDT
DTSTART:20210314T070000
END:DAYLIGHT
BEGIN:STANDARD
TZOFFSETFROM:-0400
TZOFFSETTO:-0500
TZNAME:EST
DTSTART:20211107T060000
END:STANDARD
BEGIN:DAYLIGHT
TZOFFSETFROM:-0500
TZOFFSETTO:-0400
TZNAME:EDT
DTSTART:20220313T070000
END:DAYLIGHT
BEGIN:STANDARD
TZOFFSETFROM:-0400
TZOFFSETTO:-0500
TZNAME:EST
DTSTART:20221106T060000
END:STANDARD
END:VTIMEZONE
BEGIN:VEVENT
DTSTART;TZID=America/Toronto:20210625T210000
DTEND;TZID=America/Toronto:20210626T000000
DTSTAMP:20260421T094622
CREATED:20210107T181041Z
LAST-MODIFIED:20210107T181041Z
UID:64488-1624654800-1624665600@inplaymagazine.com
SUMMARY:PFL 6: Regular Season\, 2nd Half
DESCRIPTION:https://www.espn.com/mma/fightcenter/_/id/401224789/league/pfl\nMore Info: https://stza.co/+MbMo-1z?trk=19NHK\n—\n✨Add new schedules to create a calendar you’ll look forward to: http://bit.ly/Explore-Library
URL:https://inplaymagazine.com/events/pfl-6-regular-season-2nd-half/
CATEGORIES:Combat Boxing MMA
END:VEVENT
BEGIN:VEVENT
DTSTART;TZID=America/Toronto:20210617T210000
DTEND;TZID=America/Toronto:20210618T000000
DTSTAMP:20260421T094622
CREATED:20210107T181041Z
LAST-MODIFIED:20210107T181041Z
UID:64487-1623963600-1623974400@inplaymagazine.com
SUMMARY:PFL 5: Regular Season\, 2nd Half
DESCRIPTION:https://www.espn.com/mma/fightcenter/_/id/401224788/league/pfl\nMore Info: https://stza.co/+MbMn-x?trk=19NHK\n—\n✨Add new schedules to create a calendar you’ll look forward to: http://bit.ly/Explore-Library
URL:https://inplaymagazine.com/events/pfl-5-regular-season-2nd-half/
CATEGORIES:Combat Boxing MMA
END:VEVENT
BEGIN:VEVENT
DTSTART;TZID=America/Toronto:20210610T210000
DTEND;TZID=America/Toronto:20210611T000000
DTSTAMP:20260421T094622
CREATED:20210107T181041Z
LAST-MODIFIED:20210107T181041Z
UID:64486-1623358800-1623369600@inplaymagazine.com
SUMMARY:PFL 4: Regular Season\, 2nd Half
DESCRIPTION:https://www.espn.com/mma/fightcenter/_/id/401224787/league/pfl\nMore Info: https://stza.co/+MbMm-10?trk=19NHK\n—\n✨Add new schedules to create a calendar you’ll look forward to: http://bit.ly/Explore-Library
URL:https://inplaymagazine.com/events/pfl-4-regular-season-2nd-half/
CATEGORIES:Combat Boxing MMA
END:VEVENT
BEGIN:VEVENT
DTSTART;TZID=America/Toronto:20210506T210000
DTEND;TZID=America/Toronto:20210507T000000
DTSTAMP:20260421T094622
CREATED:20210107T181040Z
LAST-MODIFIED:20210107T181040Z
UID:64485-1620334800-1620345600@inplaymagazine.com
SUMMARY:PFL 3: Regular Season\, 1st Half
DESCRIPTION:https://www.espn.com/mma/fightcenter/_/id/401224786/league/pfl\nMore Info: https://stza.co/+MbMl-2Y?trk=19NHK\n—\n✨Add new schedules to create a calendar you’ll look forward to: http://bit.ly/Explore-Library
URL:https://inplaymagazine.com/events/pfl-3-regular-season-1st-half/
CATEGORIES:Combat Boxing MMA
END:VEVENT
BEGIN:VEVENT
DTSTART;TZID=America/Toronto:20210429T210000
DTEND;TZID=America/Toronto:20210430T000000
DTSTAMP:20260421T094622
CREATED:20210107T181040Z
LAST-MODIFIED:20210107T181040Z
UID:64484-1619730000-1619740800@inplaymagazine.com
SUMMARY:PFL 2: Regular Season\, 1st Half
DESCRIPTION:https://www.espn.com/mma/fightcenter/_/id/401224785/league/pfl\nMore Info: https://stza.co/+MbMk-1i?trk=19NHK\n—\n✨Add new schedules to create a calendar you’ll look forward to: http://bit.ly/Explore-Library
URL:https://inplaymagazine.com/events/pfl-2-regular-season-1st-half/
CATEGORIES:Combat Boxing MMA
END:VEVENT
BEGIN:VEVENT
DTSTART;TZID=America/Toronto:20210423T210000
DTEND;TZID=America/Toronto:20210424T000000
DTSTAMP:20260421T094622
CREATED:20210107T181040Z
LAST-MODIFIED:20210107T181040Z
UID:64483-1619211600-1619222400@inplaymagazine.com
SUMMARY:PFL 1: Regular Season\, 1st Half
DESCRIPTION:https://www.espn.com/mma/fightcenter/_/id/401224784/league/pfl\nMore Info: https://stza.co/+MbMj-1D?trk=19NHK\n—\n✨Add new schedules to create a calendar you’ll look forward to: http://bit.ly/Explore-Library
URL:https://inplaymagazine.com/events/pfl-1-regular-season-1st-half/
CATEGORIES:Combat Boxing MMA
END:VEVENT
END:VCALENDAR