BEGIN:VCALENDAR
VERSION:2.0
PRODID:-//In Play! magazine - ECPv6.15.20//NONSGML v1.0//EN
CALSCALE:GREGORIAN
METHOD:PUBLISH
X-ORIGINAL-URL:https://inplaymagazine.com
X-WR-CALDESC:Events for In Play! magazine
REFRESH-INTERVAL;VALUE=DURATION:PT1H
X-Robots-Tag:noindex
X-PUBLISHED-TTL:PT1H
BEGIN:VTIMEZONE
TZID:America/Toronto
BEGIN:DAYLIGHT
TZOFFSETFROM:-0500
TZOFFSETTO:-0400
TZNAME:EDT
DTSTART:20200308T070000
END:DAYLIGHT
BEGIN:STANDARD
TZOFFSETFROM:-0400
TZOFFSETTO:-0500
TZNAME:EST
DTSTART:20201101T060000
END:STANDARD
BEGIN:DAYLIGHT
TZOFFSETFROM:-0500
TZOFFSETTO:-0400
TZNAME:EDT
DTSTART:20210314T070000
END:DAYLIGHT
BEGIN:STANDARD
TZOFFSETFROM:-0400
TZOFFSETTO:-0500
TZNAME:EST
DTSTART:20211107T060000
END:STANDARD
BEGIN:DAYLIGHT
TZOFFSETFROM:-0500
TZOFFSETTO:-0400
TZNAME:EDT
DTSTART:20220313T070000
END:DAYLIGHT
BEGIN:STANDARD
TZOFFSETFROM:-0400
TZOFFSETTO:-0500
TZNAME:EST
DTSTART:20221106T060000
END:STANDARD
END:VTIMEZONE
BEGIN:VEVENT
DTSTART;VALUE=DATE:20211107
DTEND;VALUE=DATE:20211109
DTSTAMP:20260420T073004
CREATED:20210817T140352Z
LAST-MODIFIED:20210817T140352Z
UID:67020-1636250400-1636336799@inplaymagazine.com
SUMMARY:Detroit Lions Gameday Week 9 2021
DESCRIPTION:Detroit Lions Gameday Week 9 2021\n\n\n\n\nWEEK \n\n\nDATE \n\n\nOPPONENT \n\n\nTV \n\n\nTIME (ET) \n\n\n\n\n\n\n9 \n\n \n\nBYE WEEK \n\n \n 
URL:https://inplaymagazine.com/events/detroit-lions-gameday-week-9-2021/
CATEGORIES:Detroit Lions
ATTACH;FMTTYPE=image/jpeg:https://inplaymagazine.com/wp-content/uploads/2018/10/Detroit-Lions.jpg
END:VEVENT
BEGIN:VEVENT
DTSTART;TZID=America/Toronto:20211031T130000
DTEND;TZID=America/Toronto:20211031T163000
DTSTAMP:20260420T073004
CREATED:20210817T135524Z
LAST-MODIFIED:20210817T135524Z
UID:67018-1635685200-1635697800@inplaymagazine.com
SUMMARY:Detroit Lions Gameday Week 8 2021
DESCRIPTION:Detroit Lions Gameday Week 8 2021\n\n\n\n\nWEEK \n\n\nDATE \n\n\nOPPONENT \n\n\nTV \n\n\nTIME (ET) \n\n\n\n\n\n\n8 \n\n\nSunday\, October 31 \n\n\nvs. Philadelphia Eagles \n\n\nFOX \n\n\n1:00 p.m.
URL:https://inplaymagazine.com/events/detroit-lions-gameday-week-8-2021/
LOCATION:Ford Field – Home of the Detroit Lions\, 2000 Brush St\, Detroit\, MI\, 48226\, United States
CATEGORIES:Detroit Lions
ATTACH;FMTTYPE=image/jpeg:https://inplaymagazine.com/wp-content/uploads/2018/10/Detroit-Lions.jpg
END:VEVENT
BEGIN:VEVENT
DTSTART;TZID=America/Toronto:20211024T160500
DTEND;TZID=America/Toronto:20211024T193000
DTSTAMP:20260420T073004
CREATED:20210817T135228Z
LAST-MODIFIED:20210817T135228Z
UID:67016-1635091500-1635103800@inplaymagazine.com
SUMMARY:Detroit Lions Gameday Week 7 2021
DESCRIPTION:Detroit Lions Gameday Week 7 2021\n\n\n\n\nWEEK \n\n\nDATE \n\n\nOPPONENT \n\n\nTV \n\n\nTIME (ET) \n\n\n\n\n\n\n7 \n\n\nSunday\, October 24 \n\n\nat Los Angeles Rams \n\n\nFOX \n\n\n4:05 p.m.
URL:https://inplaymagazine.com/events/detroit-lions-gameday-week-7-2021/
LOCATION:SoFi Stadium\, 1000 S Prairie Ave\, Inglewood\, CA\, 90301\, United States
CATEGORIES:Detroit Lions
ATTACH;FMTTYPE=image/jpeg:https://inplaymagazine.com/wp-content/uploads/2018/10/Detroit-Lions.jpg
END:VEVENT
BEGIN:VEVENT
DTSTART;TZID=America/Toronto:20211017T130000
DTEND;TZID=America/Toronto:20211017T160000
DTSTAMP:20260420T073004
CREATED:20210817T134248Z
LAST-MODIFIED:20210817T134248Z
UID:67014-1634475600-1634486400@inplaymagazine.com
SUMMARY:Detroit Lions Gameday Week 6 2021
DESCRIPTION:Detroit Lions Gameday Week 6 2021\n\n\n\n\nWEEK \n\n\nDATE \n\n\nOPPONENT \n\n\nTV \n\n\nTIME (ET) \n\n\n\n\n\n\n6 \n\n\nSunday\, October 17 \n\n\nvs. Cincinnati Bengals \n\n\nFOX \n\n\n1:00 p.m.
URL:https://inplaymagazine.com/events/detroit-lions-gameday-week-6-2021/
LOCATION:Ford Field – Home of the Detroit Lions\, 2000 Brush St\, Detroit\, MI\, 48226\, United States
CATEGORIES:Detroit Lions
ATTACH;FMTTYPE=image/jpeg:https://inplaymagazine.com/wp-content/uploads/2018/10/Detroit-Lions.jpg
END:VEVENT
BEGIN:VEVENT
DTSTART;TZID=America/Toronto:20211010T130000
DTEND;TZID=America/Toronto:20211010T160000
DTSTAMP:20260420T073004
CREATED:20210816T205809Z
LAST-MODIFIED:20210816T205809Z
UID:67012-1633870800-1633881600@inplaymagazine.com
SUMMARY:Detroit Lions Gameday Week 5 2021
DESCRIPTION:Detroit Lions Gameday Week 5 2021\nWEEK DATE OPPONENT TV TIME (ET) \n5 Sunday\, October 10 at Minnesota Vikings FOX 1:00 p.m.
URL:https://inplaymagazine.com/events/detroit-lions-gameday-week-5-2021/
LOCATION:TCF Bank Stadium\, 420 SE 23rd Ave\, Minneapolis\, MN 55455
CATEGORIES:Detroit Lions
ATTACH;FMTTYPE=image/jpeg:https://inplaymagazine.com/wp-content/uploads/2018/10/Detroit-Lions.jpg
END:VEVENT
BEGIN:VEVENT
DTSTART;TZID=America/Toronto:20211003T130000
DTEND;TZID=America/Toronto:20211003T160000
DTSTAMP:20260420T073004
CREATED:20210816T205015Z
LAST-MODIFIED:20210816T205015Z
UID:67010-1633266000-1633276800@inplaymagazine.com
SUMMARY:Detroit Lions Gameday Week 4 2021
DESCRIPTION:Detroit Lions Gameday Week 4 2021\nWEEK DATE OPPONENT TV TIME (ET) \n4 Sunday\, October 3 at Chicago Bears FOX 1:00 p.m.
URL:https://inplaymagazine.com/events/detroit-lions-gameday-week-4-2021/
LOCATION:Soldier Field\, 1410 Museum Campus Dr\, Chicago\, IL\, 60605\, United States
CATEGORIES:Detroit Lions
ATTACH;FMTTYPE=image/jpeg:https://inplaymagazine.com/wp-content/uploads/2018/10/Detroit-Lions.jpg
END:VEVENT
BEGIN:VEVENT
DTSTART;TZID=America/Toronto:20210926T130000
DTEND;TZID=America/Toronto:20210926T160000
DTSTAMP:20260420T073004
CREATED:20210816T204716Z
LAST-MODIFIED:20210816T204716Z
UID:67008-1632661200-1632672000@inplaymagazine.com
SUMMARY:Detroit Lions Gameday Week 3 2021
DESCRIPTION:Detroit Lions Gameday Week 3 2021\nWEEK DATE OPPONENT TV TIME (ET) \n3 Sunday\, September 26 vs. Baltimore Ravens CBS 1:00 p.m.
URL:https://inplaymagazine.com/events/detroit-lions-gameday-week-3-2021/
LOCATION:Ford Field – Home of the Detroit Lions\, 2000 Brush St\, Detroit\, MI\, 48226\, United States
CATEGORIES:Detroit Lions
ATTACH;FMTTYPE=image/jpeg:https://inplaymagazine.com/wp-content/uploads/2018/10/Detroit-Lions.jpg
END:VEVENT
BEGIN:VEVENT
DTSTART;TZID=America/Toronto:20210912T130000
DTEND;TZID=America/Toronto:20210912T160000
DTSTAMP:20260420T073004
CREATED:20210816T194020Z
LAST-MODIFIED:20210816T194020Z
UID:67004-1631451600-1631462400@inplaymagazine.com
SUMMARY:Detroit Lions Gameday Week 1 2021
DESCRIPTION:Detroit Lions Gameday Week 1 2021\nWEEK DATE OPPONENT TV TIME (ET) \n1 Sunday\, September 12 vs. San Francisco 49ers FOX 1:00 p.m.
URL:https://inplaymagazine.com/events/detroit-lions-gameday-week-1-2021/
LOCATION:Ford Field – Home of the Detroit Lions\, 2000 Brush St\, Detroit\, MI\, 48226\, United States
CATEGORIES:Detroit Lions
ATTACH;FMTTYPE=image/jpeg:https://inplaymagazine.com/wp-content/uploads/2018/10/Detroit-Lions.jpg
END:VEVENT
BEGIN:VEVENT
DTSTART;TZID=America/Toronto:20210820T201500
DTEND;TZID=America/Toronto:20210820T230000
DTSTAMP:20260420T073004
CREATED:20210816T194302Z
LAST-MODIFIED:20210816T204453Z
UID:67006-1629490500-1629500400@inplaymagazine.com
SUMMARY:Detroit Lions Gameday Week 2 2021
DESCRIPTION:Detroit Lions Gameday Week 2 2021\nWEEK DATE OPPONENT TV TIME (ET) \n2 Monday\, September 20 at Green Bay Packers ESPN 8:15 p.m.
URL:https://inplaymagazine.com/events/detroit-lions-gameday-week-2-2021/
LOCATION:Lambeau Field\, 1265 Lombardi Ave\, Green Bay\, WI 54304
CATEGORIES:Detroit Lions
ATTACH;FMTTYPE=image/jpeg:https://inplaymagazine.com/wp-content/uploads/2018/10/Detroit-Lions.jpg
END:VEVENT
END:VCALENDAR