BEGIN:VCALENDAR
VERSION:2.0
PRODID:-//In Play! magazine - ECPv6.15.20//NONSGML v1.0//EN
CALSCALE:GREGORIAN
METHOD:PUBLISH
X-ORIGINAL-URL:https://inplaymagazine.com
X-WR-CALDESC:Events for In Play! magazine
REFRESH-INTERVAL;VALUE=DURATION:PT1H
X-Robots-Tag:noindex
X-PUBLISHED-TTL:PT1H
BEGIN:VTIMEZONE
TZID:America/Toronto
BEGIN:DAYLIGHT
TZOFFSETFROM:-0500
TZOFFSETTO:-0400
TZNAME:EDT
DTSTART:20250309T070000
END:DAYLIGHT
BEGIN:STANDARD
TZOFFSETFROM:-0400
TZOFFSETTO:-0500
TZNAME:EST
DTSTART:20251102T060000
END:STANDARD
BEGIN:DAYLIGHT
TZOFFSETFROM:-0500
TZOFFSETTO:-0400
TZNAME:EDT
DTSTART:20260308T070000
END:DAYLIGHT
BEGIN:STANDARD
TZOFFSETFROM:-0400
TZOFFSETTO:-0500
TZNAME:EST
DTSTART:20261101T060000
END:STANDARD
BEGIN:DAYLIGHT
TZOFFSETFROM:-0500
TZOFFSETTO:-0400
TZNAME:EDT
DTSTART:20270314T070000
END:DAYLIGHT
BEGIN:STANDARD
TZOFFSETFROM:-0400
TZOFFSETTO:-0500
TZNAME:EST
DTSTART:20271107T060000
END:STANDARD
END:VTIMEZONE
BEGIN:VEVENT
DTSTART;TZID=America/Toronto:20260214T100000
DTEND;TZID=America/Toronto:20260214T140000
DTSTAMP:20260420T014616
CREATED:20260213T180009Z
LAST-MODIFIED:20260213T180009Z
UID:141922-1771063200-1771077600@inplaymagazine.com
SUMMARY:Meet Windsor Express Imagine Cinemas Lakeshore
DESCRIPTION:Meet the Windsor Express Team at Imagine Cinemas Lakeshore\nJoin us tomorrow for a fun-filled morning at Imagine Cinemas Lakeshore as we celebrate the animated film GOAT\, produced by NBA star Stephen Curry! \nFrom 10am – 2pm on Saturday\, February 14\, members of the Windsor Express will be on-site for a special Meet the Team event. \nFans can enjoy: \nPlayer meet and greets\nAutographs and photos\nPop-A-Shot basketball fun\nPrizes and giveaways \nMake it an experience by catching GOAT on the big screen while you’re there! Tickets are available at Imagine Cinemas. \nThis is a FREE event and the perfect way to spend your Saturday with family and friends. Don’t miss out on the fun. We’ll see you at Imagine Cinemas Lakeshore tomorrow!
URL:https://inplaymagazine.com/events/meet-windsor-express-imagine-cinemas-lakeshore/
LOCATION:Imagine Cinemas Lakeshore\, 164 Commercial Blvd\, Tecumseh\, ON\, N9A 7C4\, Canada
CATEGORIES:Windsor Express
ATTACH;FMTTYPE=image/webp:https://inplaymagazine.com/wp-content/uploads/2026/02/Windsor-Express-Imagine-Cinemas-Lakeshore.webp
ORGANIZER;CN="Windsor Express Basketball":MAILTO:tickets@windsorexpress.ca
END:VEVENT
BEGIN:VEVENT
DTSTART;TZID=America/Toronto:20260215T150000
DTEND;TZID=America/Toronto:20260215T170000
DTSTAMP:20260420T014616
CREATED:20260209T202657Z
LAST-MODIFIED:20260209T202657Z
UID:141525-1771167600-1771174800@inplaymagazine.com
SUMMARY:Windsor Express Family Day Sunday
DESCRIPTION:Windsor Express Family Day Sunday\nWe want to extend a heartfelt thank you to our local community partners\, especially Shan Hasan from KW Signature Realty for helping us create a special opportunity for families across Windsor-Essex. \nWe’re excited to share that our Family Day Sunday Game on February 15 will be FREE for the community (bowl seating only). \nIf you’d like to secure additional tickets for the Family Day Sunday game\, a limited number will be available in-person only at the WFCU Centre Box Office\, while supplies last. \nWFCU Centre Box Office Hours: \nWednesday\, February 11: 11am – 8pm\nThursday\, February 12: 11am – 8pm\nFriday\, February 13: 11am – 3pm\nSaturday\, February 14: 9am – 2pm\nSunday\, February 15: 9:30am – 3pm \nLimit of 6 tickets per person.
URL:https://inplaymagazine.com/events/windsor-express-family-day-sunday/
LOCATION:WFCU Centre\, 8787 McHugh St\, Windsor\, Ontario\, N8S 0A1\, Canada
CATEGORIES:Windsor Express
ATTACH;FMTTYPE=image/webp:https://inplaymagazine.com/wp-content/uploads/2026/02/Windsor-Express-Family-Day-In-Play-magazine.webp
ORGANIZER;CN="Windsor Express Basketball":MAILTO:tickets@windsorexpress.ca
END:VEVENT
END:VCALENDAR