BEGIN:VCALENDAR
VERSION:2.0
PRODID:-//In Play! magazine - ECPv6.15.20//NONSGML v1.0//EN
CALSCALE:GREGORIAN
METHOD:PUBLISH
X-WR-CALNAME:In Play! magazine
X-ORIGINAL-URL:https://inplaymagazine.com
X-WR-CALDESC:Events for In Play! magazine
REFRESH-INTERVAL;VALUE=DURATION:PT1H
X-Robots-Tag:noindex
X-PUBLISHED-TTL:PT1H
BEGIN:VTIMEZONE
TZID:America/Toronto
BEGIN:DAYLIGHT
TZOFFSETFROM:-0500
TZOFFSETTO:-0400
TZNAME:EDT
DTSTART:20210314T070000
END:DAYLIGHT
BEGIN:STANDARD
TZOFFSETFROM:-0400
TZOFFSETTO:-0500
TZNAME:EST
DTSTART:20211107T060000
END:STANDARD
BEGIN:DAYLIGHT
TZOFFSETFROM:-0500
TZOFFSETTO:-0400
TZNAME:EDT
DTSTART:20220313T070000
END:DAYLIGHT
BEGIN:STANDARD
TZOFFSETFROM:-0400
TZOFFSETTO:-0500
TZNAME:EST
DTSTART:20221106T060000
END:STANDARD
BEGIN:DAYLIGHT
TZOFFSETFROM:-0500
TZOFFSETTO:-0400
TZNAME:EDT
DTSTART:20230312T070000
END:DAYLIGHT
BEGIN:STANDARD
TZOFFSETFROM:-0400
TZOFFSETTO:-0500
TZNAME:EST
DTSTART:20231105T060000
END:STANDARD
BEGIN:DAYLIGHT
TZOFFSETFROM:-0500
TZOFFSETTO:-0400
TZNAME:EDT
DTSTART:20240310T070000
END:DAYLIGHT
BEGIN:STANDARD
TZOFFSETFROM:-0400
TZOFFSETTO:-0500
TZNAME:EST
DTSTART:20241103T060000
END:STANDARD
BEGIN:DAYLIGHT
TZOFFSETFROM:-0500
TZOFFSETTO:-0400
TZNAME:EDT
DTSTART:20250309T070000
END:DAYLIGHT
BEGIN:STANDARD
TZOFFSETFROM:-0400
TZOFFSETTO:-0500
TZNAME:EST
DTSTART:20251102T060000
END:STANDARD
BEGIN:DAYLIGHT
TZOFFSETFROM:-0500
TZOFFSETTO:-0400
TZNAME:EDT
DTSTART:20260308T070000
END:DAYLIGHT
BEGIN:STANDARD
TZOFFSETFROM:-0400
TZOFFSETTO:-0500
TZNAME:EST
DTSTART:20261101T060000
END:STANDARD
BEGIN:DAYLIGHT
TZOFFSETFROM:-0500
TZOFFSETTO:-0400
TZNAME:EDT
DTSTART:20270314T070000
END:DAYLIGHT
BEGIN:STANDARD
TZOFFSETFROM:-0400
TZOFFSETTO:-0500
TZNAME:EST
DTSTART:20271107T060000
END:STANDARD
END:VTIMEZONE
BEGIN:VEVENT
DTSTART;TZID=America/Toronto:20260129T190000
DTEND;TZID=America/Toronto:20260129T220000
DTSTAMP:20260420T051306
CREATED:20260127T234316Z
LAST-MODIFIED:20260127T234316Z
UID:140036-1769713200-1769724000@inplaymagazine.com
SUMMARY:Windsor Spitfires Mental Health Awareness Game
DESCRIPTION:Windsor Spitfires Host Mental Health Awareness Game in Partnership with CMHA Windsor-Essex\nThe Windsor Spitfires have partnered with the Canadian Mental Health Association\, Windsor Essex County Branch (CMHA-WECB) for a mental health awareness game January 29\, 7 pm when the Windsor Spitfires take on the North Bay Battalion. \nThe game day experience will have several features to promote the importance of mental health\, including: \n\nA CMHA-WECB-run kiosk on the concourse where fans can learn more about mental health and the organization’s community-based services\nA ceremonial puck dropVideos featuring Windsor Spitfires players talking about the importance of mental health\nPublic service announcements about mental health and CMHA-WECB\n\nThis mental health awareness game is part of the Spitfires ongoing partnership with CMHA-WECB and its Talk Today program. \nThis season\, Talk Today is celebrating a major milestone – its 10th season of supporting junior hockey. Since its launch in 2014\, Talk Today has provided an important opportunity to address the mental health needs of hockey players and other athletes across Canada. From 2014 through the 2022-23 season\, nearly 8\,600 individuals have received mental health and suicide awareness training through the program. The vast majority of individuals trained are athletes (7\,598)\, but coaches (381)\, staff (217)\, billets and parents (400) have also participated in training\, helping to create a culture of openness within athlete support networks. \nThe key piece of the Talk Today program has been to educate players about mental health and suicide prevention. Each team is also linked to a CMHA mental health coach\, who provides support and mental health resources to individuals in need. \n“Talk Today highlights the impact that strong community partnerships can have on mental health. Working alongside the Windsor Spitfires helps normalize conversations about mental health and ensures young people know that support is always within reach.” said Nicole Sbrocca\, CEO\, CMHA-WECB. \n“The Talk Today program is a vital resource for our entire organization. They provide support and mental health resources to individuals in need\, and they have equipped our players with educational training that they can use going forward in their lives.” said Nick Welsh\, Communications\, Media and Community Relations Manager of the Windsor Spitfires Hockey Club \nFor more information on the Talk Today program\, visit www.talktoday.ca.
URL:https://inplaymagazine.com/events/windsor-spitfires-mental-health-awareness-game/
LOCATION:WFCU Centre\, 8787 McHugh St\, Windsor\, Ontario\, N8S 0A1\, Canada
CATEGORIES:Windsor Spitfires
ATTACH;FMTTYPE=image/webp:https://inplaymagazine.com/wp-content/uploads/2022/11/windsor-spitfires-in-play-mAGAZINE.webp
END:VEVENT
BEGIN:VEVENT
DTSTART;TZID=America/Toronto:20251123T160500
DTEND;TZID=America/Toronto:20251123T183000
DTSTAMP:20260420T051306
CREATED:20251121T061616Z
LAST-MODIFIED:20251121T061616Z
UID:132261-1763913900-1763922600@inplaymagazine.com
SUMMARY:Windsor Spitfires Annual Teddy Bear Toss Game
DESCRIPTION:Windsor Spitfires Annual Teddy Bear Toss Game\nThe Windsor Spitfires are excited to host our annual Teddy Bear Toss game on Sunday\, November 23\, a cherished holiday tradition that brings together hockey fans\, community spirit\, and charitable giving. \nLast year’s event was a tremendous success: the community donated 3\,954 stuffed animals\, which were distributed to local children via Sparky’s Toy Drive. \nWhat Is the Teddy Bear Toss? \nFans are encouraged to bring a new stuffed animal (teddy bear or other plush toy) to the game. When the home team scores its first goal\, fans launch their bears onto the ice in a jubilant\, feel-good moment. After the goal\, volunteers and staff collect the toys\, which are then donated to children’s charities\, hospitals\, and local social-service organizations. \nGoal of the Toss: This year\, the team hopes to raise over 4\,000 stuffed animals and increase community impact. \nTickets: can be purchased here. \nLooking Back: Previous Teddy Bear Toss Goal Scorers \nHere are some past players who scored the iconic “teddy bear” goal in previous years: \n\n2024-25 – Jack Nesbitt\n2023-24 – Oliver Peer\n2022-23 – Noah Morneau\n2021-22 – Pasquale Zito\n2020-21 – no season\n2019-20 – Luke Boka\n2018-19 – Will Cuylle\n2017-18 – Kirill Kozhevnikov\n2016-17 – no Teddy Bear Toss Game\n2015-16 – Christian Fischer\n\n 
URL:https://inplaymagazine.com/events/windsor-spitfires-annual-teddy-bear-toss-game/
LOCATION:WFCU Centre\, 8787 McHugh St\, Windsor\, Ontario\, N8S 0A1\, Canada
CATEGORIES:Windsor Spitfires
ATTACH;FMTTYPE=image/webp:https://inplaymagazine.com/wp-content/uploads/2024/12/Windsor-Spitfires-Teddy-Bear-Toss-December-8-2024-In-Play-magazine.webp
END:VEVENT
BEGIN:VEVENT
DTSTART;TZID=America/Toronto:20251121T190500
DTEND;TZID=America/Toronto:20251121T220000
DTSTAMP:20260420T051306
CREATED:20251118T164853Z
LAST-MODIFIED:20251118T164853Z
UID:132010-1763751900-1763762400@inplaymagazine.com
SUMMARY:Windsor Spitfires vs Saginaw Spirit Nov 21 2025
DESCRIPTION:Windsor Spitfires vs Saginaw Spirit Nov 21 2025
URL:https://inplaymagazine.com/events/windsor-spitfires-vs-saginaw-spirit-nov-21-2025/
LOCATION:WFCU Centre\, 8787 McHugh St\, Windsor\, Ontario\, N8S 0A1\, Canada
CATEGORIES:Windsor Spitfires
ATTACH;FMTTYPE=image/webp:https://inplaymagazine.com/wp-content/uploads/2022/10/Saginaw-Spirit-at-Windsor-Spitfires-October-20-2022-1.webp
END:VEVENT
BEGIN:VEVENT
DTSTART;VALUE=DATE:20250829
DTEND;VALUE=DATE:20250901
DTSTAMP:20260420T051306
CREATED:20250829T150131Z
LAST-MODIFIED:20250829T150131Z
UID:122671-1756432800-1756605599@inplaymagazine.com
SUMMARY:2025-26 Windsor Spitfires Training Camp
DESCRIPTION:2025-26 Windsor Spitfires Training Camp\nJoin us this Friday\, and Saturday as the Windsor Spitfires kick off their 2025–26 Training Camp! \nAdmission is free for all fans. \nTimes subject to change. \nTraining Camp Schedule \nFriday August 29th \n9am – GAME – Team White vs Team Blue\n10:15am – GAME – Team White vs Team Red\n11:30am – GAME – Team Blue vs Team Red\n5pm – GAME – Team White vs Team Red\n6:15pm – GAME – Team Red vs Team Blue\n7:30pm – GAME – Team Blue vs Team White\nSaturday August 30th \n9am – SKILLS – Team White \n10:15am – SKILLS – Team Blue \n4pm – GAME – Annual Team Blue vs Team White (full game)
URL:https://inplaymagazine.com/events/2025-26-windsor-spitfires-training-camp/
LOCATION:Ontario
CATEGORIES:Windsor Spitfires
ATTACH;FMTTYPE=image/webp:https://inplaymagazine.com/wp-content/uploads/2023/11/Windsor-Spitfires-vs-Owen-Sound-Attack-November-16-2023-In-Play-magazine.webp
END:VEVENT
BEGIN:VEVENT
DTSTART;TZID=America/Toronto:20240201T190500
DTEND;TZID=America/Toronto:20240201T220000
DTSTAMP:20260420T051306
CREATED:20240124T163744Z
LAST-MODIFIED:20240124T163851Z
UID:92838-1706814300-1706824800@inplaymagazine.com
SUMMARY:SPITFIRES TO HOST FIRST STAR WARS NIGHT
DESCRIPTION:SPITFIRES TO HOST FIRST STAR WARS NIGHT\nThe Windsor Spitfires have joined forces with Lucasfilm for the first ever Star Wars theme night in Spitfires history. Thursday February 1st the Windsor Spitfires will host the Sarnia Sting at the WFCU Centre. Puck drop is scheduled for 7:05pm. \nThe evening will be filled with Star Wars Sci-Fi and thrilling Spitfires hockey. Fans are encouraged to come in costume and celebrate the Star Wars universe! Official Spitfires/Star Wars merchandise will be available at the Crease Pro Shop during game. Supplies are limited so get the gear before its gone. \n“May the Force be with you!” \nWIN TICKETS HERE
URL:https://inplaymagazine.com/events/spitfires-to-host-first-star-wars-night/
LOCATION:WFCU Centre\, 8787 McHugh St\, Windsor\, Ontario\, N8S 0A1\, Canada
CATEGORIES:Windsor Spitfires
ATTACH;FMTTYPE=image/webp:https://inplaymagazine.com/wp-content/uploads/2024/01/star-wars.webp
END:VEVENT
BEGIN:VEVENT
DTSTART;TZID=America/Toronto:20231113T100000
DTEND;TZID=America/Toronto:20231113T230000
DTSTAMP:20260420T051306
CREATED:20231108T021710Z
LAST-MODIFIED:20231108T021710Z
UID:90528-1699869600-1699916400@inplaymagazine.com
SUMMARY:Windsor Spitfires' Bomber at Tim Hortons
DESCRIPTION:Windsor Spitfires’ Bomber at Tim Hortons\nBomber will be at Tim Hortons at 10am at 1421 Grand Marais Rd W\, Windsor to introduce Tim’s new Holiday Smile Cookie.
URL:https://inplaymagazine.com/events/windsor-spitfires-bomber-at-tim-hortons/
LOCATION:Ontario
CATEGORIES:Windsor Spitfires
ATTACH;FMTTYPE=image/jpeg:https://inplaymagazine.com/wp-content/uploads/2016/09/Windsor-Spitfires.jpg
END:VEVENT
BEGIN:VEVENT
DTSTART;TZID=America/Toronto:20231112T160500
DTEND;TZID=America/Toronto:20231112T190000
DTSTAMP:20260420T051306
CREATED:20231108T020647Z
LAST-MODIFIED:20231108T020647Z
UID:90526-1699805100-1699815600@inplaymagazine.com
SUMMARY:Windsor Spitfires vs Saginaw Spirit
DESCRIPTION:Sunday November 12th vs Windsor Spitfires vs Saginaw Spirit\nTeenage Mutant Ninja Turtles Night. \nThe Spitfires will wear customized jerseys with the Gordie Howe Bridge and TMNT on display. \nBring your skates! It’s our first Skate with the Spits after the game!
URL:https://inplaymagazine.com/events/windsor-spitfires-vs-saginaw-spirit/
LOCATION:WFCU Centre\, 8787 McHugh St\, Windsor\, Ontario\, N8S 0A1\, Canada
CATEGORIES:Windsor Spitfires
ATTACH;FMTTYPE=image/jpeg:https://inplaymagazine.com/wp-content/uploads/2016/09/Windsor-Spitfires.jpg
END:VEVENT
BEGIN:VEVENT
DTSTART;TZID=America/Toronto:20231109T191000
DTEND;TZID=America/Toronto:20231109T220000
DTSTAMP:20260420T051306
CREATED:20231108T015437Z
LAST-MODIFIED:20231108T015437Z
UID:90524-1699557000-1699567200@inplaymagazine.com
SUMMARY:Windsor Spitfires November 9 2023
DESCRIPTION:Thursday November 9th Windsor Spitfires vs London Knights\nRichmond Hill native\, Alex Christopoulos plays in his 200th career OHL game. \nRemebrance Day Ceremony – Pre game – Poppies will be available for sale at the Gates. \nWindsor Spitfires Schedule \nWIN TICKETS
URL:https://inplaymagazine.com/events/windsor-spitfires-november-9-2023/
LOCATION:WFCU Centre\, 8787 McHugh St\, Windsor\, Ontario\, N8S 0A1\, Canada
CATEGORIES:Windsor Spitfires
ATTACH;FMTTYPE=image/jpeg:https://inplaymagazine.com/wp-content/uploads/2016/09/Windsor-Spitfires.jpg
END:VEVENT
BEGIN:VEVENT
DTSTART;TZID=America/Toronto:20220402T193000
DTEND;TZID=America/Toronto:20220402T223000
DTSTAMP:20260420T051306
CREATED:20210917T193442Z
LAST-MODIFIED:20211020T162051Z
UID:67468-1648927800-1648938600@inplaymagazine.com
SUMMARY:Windsor Spitfires @ Owen Sound Attack
DESCRIPTION:
URL:https://inplaymagazine.com/events/windsor-spitfires-owen-sound-attack-6/
LOCATION:Harry Lumley Bayshore Community Centre
CATEGORIES:Windsor Spitfires
END:VEVENT
BEGIN:VEVENT
DTSTART;TZID=America/Toronto:20220401T193000
DTEND;TZID=America/Toronto:20220401T223000
DTSTAMP:20260420T051306
CREATED:20210917T193442Z
LAST-MODIFIED:20211020T162117Z
UID:67467-1648841400-1648852200@inplaymagazine.com
SUMMARY:Windsor Spitfires @ Kitchener Rangers
DESCRIPTION:
URL:https://inplaymagazine.com/events/windsor-spitfires-kitchener-rangers-8/
LOCATION:Kitchener Memorial Auditorium
CATEGORIES:Windsor Spitfires
END:VEVENT
BEGIN:VEVENT
DTSTART;TZID=America/Toronto:20220331T193000
DTEND;TZID=America/Toronto:20220331T223000
DTSTAMP:20260420T051306
CREATED:20210917T193442Z
LAST-MODIFIED:20211127T004114Z
UID:67466-1648755000-1648765800@inplaymagazine.com
SUMMARY:Sarnia Sting @ Windsor Spitfires
DESCRIPTION:WIN TICKETS\nVisit our Windsor Spitfires Ticket Giveaway page and enter now to win tickets to this game and future games.
URL:https://inplaymagazine.com/events/sarnia-sting-windsor-spitfires-10/
LOCATION:WFCU Centre\, 8787 McHugh St\, Windsor\, Ontario\, N8S 0A1\, Canada
CATEGORIES:Windsor Spitfires
END:VEVENT
BEGIN:VEVENT
DTSTART;TZID=America/Toronto:20220327T140700
DTEND;TZID=America/Toronto:20220327T170700
DTSTAMP:20260420T051306
CREATED:20210917T193442Z
LAST-MODIFIED:20210917T193442Z
UID:67465-1648390020-1648400820@inplaymagazine.com
SUMMARY:Windsor Spitfires @ Soo Greyhounds
DESCRIPTION:You have booked some OHL games
URL:https://inplaymagazine.com/events/windsor-spitfires-soo-greyhounds-8/
LOCATION:GFL Memorial Gardens
CATEGORIES:Windsor Spitfires
END:VEVENT
BEGIN:VEVENT
DTSTART;TZID=America/Toronto:20220326T190700
DTEND;TZID=America/Toronto:20220326T220700
DTSTAMP:20260420T051306
CREATED:20210917T193441Z
LAST-MODIFIED:20210917T193441Z
UID:67464-1648321620-1648332420@inplaymagazine.com
SUMMARY:Windsor Spitfires @ Soo Greyhounds
DESCRIPTION:You have booked some OHL games
URL:https://inplaymagazine.com/events/windsor-spitfires-soo-greyhounds-7/
LOCATION:GFL Memorial Gardens
CATEGORIES:Windsor Spitfires
END:VEVENT
BEGIN:VEVENT
DTSTART;TZID=America/Toronto:20220324T193000
DTEND;TZID=America/Toronto:20220324T223000
DTSTAMP:20260420T051306
CREATED:20210917T193441Z
LAST-MODIFIED:20211127T003831Z
UID:67463-1648150200-1648161000@inplaymagazine.com
SUMMARY:Saginaw Spirit @ Windsor Spitfires
DESCRIPTION:WIN TICKETS\nVisit our Windsor Spitfires Ticket Giveaway page and enter now to win tickets to this game and future games.
URL:https://inplaymagazine.com/events/saginaw-spirit-windsor-spitfires-8/
LOCATION:WFCU Centre\, 8787 McHugh St\, Windsor\, Ontario\, N8S 0A1\, Canada
CATEGORIES:Windsor Spitfires
END:VEVENT
BEGIN:VEVENT
DTSTART;TZID=America/Toronto:20220320T160500
DTEND;TZID=America/Toronto:20220320T190500
DTSTAMP:20260420T051306
CREATED:20210917T193441Z
LAST-MODIFIED:20211127T003738Z
UID:67462-1647792300-1647803100@inplaymagazine.com
SUMMARY:Flint Firebirds @ Windsor Spitfires
DESCRIPTION:WIN TICKETS\nVisit our Windsor Spitfires Ticket Giveaway page and enter now to win tickets to this game and future games.
URL:https://inplaymagazine.com/events/flint-firebirds-windsor-spitfires-8/
LOCATION:WFCU Centre\, 8787 McHugh St\, Windsor\, Ontario\, N8S 0A1\, Canada
CATEGORIES:Windsor Spitfires
END:VEVENT
BEGIN:VEVENT
DTSTART;TZID=America/Toronto:20220319T190000
DTEND;TZID=America/Toronto:20220319T220000
DTSTAMP:20260420T051306
CREATED:20210917T193441Z
LAST-MODIFIED:20210917T193441Z
UID:67461-1647716400-1647727200@inplaymagazine.com
SUMMARY:Windsor Spitfires @ Flint Firebirds
DESCRIPTION:You have booked some OHL games
URL:https://inplaymagazine.com/events/windsor-spitfires-flint-firebirds-8/
LOCATION:Dort Financial Center
CATEGORIES:Windsor Spitfires
END:VEVENT
BEGIN:VEVENT
DTSTART;TZID=America/Toronto:20220316T190000
DTEND;TZID=America/Toronto:20220316T220000
DTSTAMP:20260420T051306
CREATED:20210917T193428Z
LAST-MODIFIED:20210917T193428Z
UID:67460-1647457200-1647468000@inplaymagazine.com
SUMMARY:Windsor Spitfires @ Owen Sound Attack
DESCRIPTION:You have booked some OHL games
URL:https://inplaymagazine.com/events/windsor-spitfires-owen-sound-attack-5/
LOCATION:Harry Lumley Bayshore Community Centre
CATEGORIES:Windsor Spitfires
END:VEVENT
BEGIN:VEVENT
DTSTART;TZID=America/Toronto:20220312T190000
DTEND;TZID=America/Toronto:20220312T220000
DTSTAMP:20260420T051306
CREATED:20210917T193428Z
LAST-MODIFIED:20210917T193428Z
UID:67459-1647111600-1647122400@inplaymagazine.com
SUMMARY:Windsor Spitfires @ Erie Otters
DESCRIPTION:You have booked some OHL games
URL:https://inplaymagazine.com/events/windsor-spitfires-erie-otters-6/
LOCATION:Erie Insurance Arena
CATEGORIES:Windsor Spitfires
END:VEVENT
BEGIN:VEVENT
DTSTART;TZID=America/Toronto:20220311T190000
DTEND;TZID=America/Toronto:20220311T220000
DTSTAMP:20260420T051306
CREATED:20210917T193427Z
LAST-MODIFIED:20210917T193427Z
UID:67458-1647025200-1647036000@inplaymagazine.com
SUMMARY:Windsor Spitfires @ Erie Otters
DESCRIPTION:You have booked some OHL games
URL:https://inplaymagazine.com/events/windsor-spitfires-erie-otters-5/
LOCATION:Erie Insurance Arena
CATEGORIES:Windsor Spitfires
END:VEVENT
BEGIN:VEVENT
DTSTART;TZID=America/Toronto:20220310T193000
DTEND;TZID=America/Toronto:20220310T223000
DTSTAMP:20260420T051306
CREATED:20210917T193427Z
LAST-MODIFIED:20211127T003637Z
UID:67457-1646940600-1646951400@inplaymagazine.com
SUMMARY:Owen Sound Attack @ Windsor Spitfires
DESCRIPTION:WIN TICKETS\nVisit our Windsor Spitfires Ticket Giveaway page and enter now to win tickets to this game and future games.
URL:https://inplaymagazine.com/events/owen-sound-attack-windsor-spitfires-6/
LOCATION:WFCU Centre\, 8787 McHugh St\, Windsor\, Ontario\, N8S 0A1\, Canada
CATEGORIES:Windsor Spitfires
END:VEVENT
BEGIN:VEVENT
DTSTART;TZID=America/Toronto:20220306T160500
DTEND;TZID=America/Toronto:20220306T190500
DTSTAMP:20260420T051306
CREATED:20210917T193427Z
LAST-MODIFIED:20211127T003552Z
UID:67456-1646582700-1646593500@inplaymagazine.com
SUMMARY:London Knights @ Windsor Spitfires
DESCRIPTION:WIN TICKETS\nVisit our Windsor Spitfires Ticket Giveaway page and enter now to win tickets to this game and future games.
URL:https://inplaymagazine.com/events/london-knights-windsor-spitfires-8/
LOCATION:WFCU Centre\, 8787 McHugh St\, Windsor\, Ontario\, N8S 0A1\, Canada
CATEGORIES:Windsor Spitfires
END:VEVENT
BEGIN:VEVENT
DTSTART;TZID=America/Toronto:20220305T190500
DTEND;TZID=America/Toronto:20220305T220500
DTSTAMP:20260420T051306
CREATED:20210917T193427Z
LAST-MODIFIED:20211127T003510Z
UID:67455-1646507100-1646517900@inplaymagazine.com
SUMMARY:Soo Greyhounds @ Windsor Spitfires
DESCRIPTION:WIN TICKETS\nVisit our Windsor Spitfires Ticket Giveaway page and enter now to win tickets to this game and future games.
URL:https://inplaymagazine.com/events/soo-greyhounds-windsor-spitfires-8/
LOCATION:WFCU Centre\, 8787 McHugh St\, Windsor\, Ontario\, N8S 0A1\, Canada
CATEGORIES:Windsor Spitfires
END:VEVENT
BEGIN:VEVENT
DTSTART;TZID=America/Toronto:20220304T193000
DTEND;TZID=America/Toronto:20220304T223000
DTSTAMP:20260420T051306
CREATED:20210917T193427Z
LAST-MODIFIED:20210917T193427Z
UID:67454-1646422200-1646433000@inplaymagazine.com
SUMMARY:Windsor Spitfires @ London Knights
DESCRIPTION:You have booked some OHL games
URL:https://inplaymagazine.com/events/windsor-spitfires-london-knights-8/
LOCATION:Budweiser Gardens
CATEGORIES:Windsor Spitfires
END:VEVENT
BEGIN:VEVENT
DTSTART;TZID=America/Toronto:20220227T160500
DTEND;TZID=America/Toronto:20220227T190500
DTSTAMP:20260420T051306
CREATED:20210917T193427Z
LAST-MODIFIED:20211127T003427Z
UID:67453-1645977900-1645988700@inplaymagazine.com
SUMMARY:Sarnia Sting @ Windsor Spitfires
DESCRIPTION:WIN TICKETS\nVisit our Windsor Spitfires Ticket Giveaway page and enter now to win tickets to this game and future games.
URL:https://inplaymagazine.com/events/sarnia-sting-windsor-spitfires-9/
LOCATION:WFCU Centre\, 8787 McHugh St\, Windsor\, Ontario\, N8S 0A1\, Canada
CATEGORIES:Windsor Spitfires
END:VEVENT
BEGIN:VEVENT
DTSTART;TZID=America/Toronto:20220225T193000
DTEND;TZID=America/Toronto:20220225T223000
DTSTAMP:20260420T051306
CREATED:20210917T193426Z
LAST-MODIFIED:20210917T193426Z
UID:67452-1645817400-1645828200@inplaymagazine.com
SUMMARY:Windsor Spitfires @ Guelph Storm
DESCRIPTION:You have booked some OHL games
URL:https://inplaymagazine.com/events/windsor-spitfires-guelph-storm-6/
LOCATION:Sleeman Centre
CATEGORIES:Windsor Spitfires
END:VEVENT
BEGIN:VEVENT
DTSTART;TZID=America/Toronto:20220224T193000
DTEND;TZID=America/Toronto:20220224T223000
DTSTAMP:20260420T051306
CREATED:20210917T193426Z
LAST-MODIFIED:20211020T163106Z
UID:67451-1645731000-1645741800@inplaymagazine.com
SUMMARY:Kitchener Rangers @ Windsor Spitfires
DESCRIPTION:WIN TICKETS\nVisit our Windsor Spitfires Ticket Giveaway page and enter now to win tickets to this game and future games.
URL:https://inplaymagazine.com/events/kitchener-rangers-windsor-spitfires-8/
LOCATION:WFCU Centre\, 8787 McHugh St\, Windsor\, Ontario\, N8S 0A1\, Canada
CATEGORIES:Windsor Spitfires
END:VEVENT
BEGIN:VEVENT
DTSTART;TZID=America/Toronto:20220221T140500
DTEND;TZID=America/Toronto:20220221T170500
DTSTAMP:20260420T051306
CREATED:20210917T193413Z
LAST-MODIFIED:20211127T003037Z
UID:67450-1645452300-1645463100@inplaymagazine.com
SUMMARY:Saginaw Spirit @ Windsor Spitfires
DESCRIPTION:WIN TICKETS\nVisit our Windsor Spitfires Ticket Giveaway page and enter now to win tickets to this game and future games.
URL:https://inplaymagazine.com/events/saginaw-spirit-windsor-spitfires-7/
LOCATION:WFCU Centre\, 8787 McHugh St\, Windsor\, Ontario\, N8S 0A1\, Canada
CATEGORIES:Windsor Spitfires
END:VEVENT
BEGIN:VEVENT
DTSTART;TZID=America/Toronto:20220219T190000
DTEND;TZID=America/Toronto:20220219T220000
DTSTAMP:20260420T051306
CREATED:20210917T193413Z
LAST-MODIFIED:20210917T193413Z
UID:67449-1645297200-1645308000@inplaymagazine.com
SUMMARY:Windsor Spitfires @ Flint Firebirds
DESCRIPTION:You have booked some OHL games
URL:https://inplaymagazine.com/events/windsor-spitfires-flint-firebirds-7/
LOCATION:Dort Financial Center
CATEGORIES:Windsor Spitfires
END:VEVENT
BEGIN:VEVENT
DTSTART;TZID=America/Toronto:20220218T193000
DTEND;TZID=America/Toronto:20220218T223000
DTSTAMP:20260420T051306
CREATED:20210917T193413Z
LAST-MODIFIED:20211127T002942Z
UID:67448-1645212600-1645223400@inplaymagazine.com
SUMMARY:Flint Firebirds @ Windsor Spitfires
DESCRIPTION:WIN TICKETS\nVisit our Windsor Spitfires Ticket Giveaway page and enter now to win tickets to this game and future games.
URL:https://inplaymagazine.com/events/flint-firebirds-windsor-spitfires-7/
LOCATION:WFCU Centre\, 8787 McHugh St\, Windsor\, Ontario\, N8S 0A1\, Canada
CATEGORIES:Windsor Spitfires
END:VEVENT
BEGIN:VEVENT
DTSTART;TZID=America/Toronto:20220212T190500
DTEND;TZID=America/Toronto:20220212T220500
DTSTAMP:20260420T051306
CREATED:20210917T193413Z
LAST-MODIFIED:20211127T002856Z
UID:67447-1644692700-1644703500@inplaymagazine.com
SUMMARY:London Knights @ Windsor Spitfires
DESCRIPTION:WIN TICKETS\nVisit our Windsor Spitfires Ticket Giveaway page and enter now to win tickets to this game and future games.
URL:https://inplaymagazine.com/events/london-knights-windsor-spitfires-7/
LOCATION:WFCU Centre\, 8787 McHugh St\, Windsor\, Ontario\, N8S 0A1\, Canada
CATEGORIES:Windsor Spitfires
END:VEVENT
END:VCALENDAR