BEGIN:VCALENDAR
VERSION:2.0
PRODID:-//In Play! magazine - ECPv6.15.20//NONSGML v1.0//EN
CALSCALE:GREGORIAN
METHOD:PUBLISH
X-ORIGINAL-URL:https://inplaymagazine.com
X-WR-CALDESC:Events for In Play! magazine
REFRESH-INTERVAL;VALUE=DURATION:PT1H
X-Robots-Tag:noindex
X-PUBLISHED-TTL:PT1H
BEGIN:VTIMEZONE
TZID:America/Toronto
BEGIN:DAYLIGHT
TZOFFSETFROM:-0500
TZOFFSETTO:-0400
TZNAME:EDT
DTSTART:20250309T070000
END:DAYLIGHT
BEGIN:STANDARD
TZOFFSETFROM:-0400
TZOFFSETTO:-0500
TZNAME:EST
DTSTART:20251102T060000
END:STANDARD
BEGIN:DAYLIGHT
TZOFFSETFROM:-0500
TZOFFSETTO:-0400
TZNAME:EDT
DTSTART:20260308T070000
END:DAYLIGHT
BEGIN:STANDARD
TZOFFSETFROM:-0400
TZOFFSETTO:-0500
TZNAME:EST
DTSTART:20261101T060000
END:STANDARD
BEGIN:DAYLIGHT
TZOFFSETFROM:-0500
TZOFFSETTO:-0400
TZNAME:EDT
DTSTART:20270314T070000
END:DAYLIGHT
BEGIN:STANDARD
TZOFFSETFROM:-0400
TZOFFSETTO:-0500
TZNAME:EST
DTSTART:20271107T060000
END:STANDARD
END:VTIMEZONE
BEGIN:VEVENT
DTSTART;TZID=America/Toronto:20260119T193000
DTEND;TZID=America/Toronto:20260119T223000
DTSTAMP:20260420T224344
CREATED:20260110T154538Z
LAST-MODIFIED:20260110T154538Z
UID:138047-1768851000-1768861800@inplaymagazine.com
SUMMARY:College Football Playoff National Championship
DESCRIPTION:2026 College Football Playoff National Championship\nThe stage is set for a historic national championship showdown as top-seeded Indiana faces the Cinderella story of No. 10 Miami in the Hurricanes’ home stadium. \n**Miami’s Remarkable Run**\nThe Hurricanes have defied all odds in this College Football Playoff\, entering as the tournament’s most controversial selection and now standing one win away from their first national title since 2001. Their playoff journey has been nothing short of spectacular: \n\nUpset No. 7 Texas A&M 10-3 on the road in the first round\nShocked defending champion No. 2 Ohio State 24-14 in the quarterfinals\nSurvived No. 6 Ole Miss 31-27 in a thrilling Fiesta Bowl semifinal\n\nQuarterback Carson Beck\, a Georgia transfer who never appeared in a playoff game for the Bulldogs\, has been instrumental in Miami’s success. In the semifinal victory\, he threw for 268 yards and two touchdowns before running in the game-winning score from 3 yards out with just 18 seconds remaining. \nIndiana’s Dominant Performance\nThe Hoosiers have been equally impressive\, crushing opponents on their path to the championship. They demolished No. 9 Alabama 38-3 in the quarterfinals before dominating No. 5 Oregon 56-22 in the Peach Bowl semifinal. \nThe Storylines\nThis matchup features Indiana quarterback Fernando Mendoza\, a Miami native\, facing his hometown team in what promises to be an emotionally charged atmosphere. The Hurricanes will have the home-field advantage at Hard Rock Stadium\, where they’ll seek to capture their sixth national championship and first in 25 years. \nWith Miami’s never-say-die mentality meeting Indiana’s dominant playoff performances\, this championship game has all the makings of an instant classic.
URL:https://inplaymagazine.com/events/college-football-playoff-national-championship/
LOCATION:Hard Rock Stadium\, 347 Don Shula Dr.\, Miami Gardens\, FL\, 33056\, United States
CATEGORIES:NCAA
ATTACH;FMTTYPE=image/jpeg:https://inplaymagazine.com/wp-content/uploads/2018/12/NCAA-SCHEDULE.jpg
END:VEVENT
END:VCALENDAR