BEGIN:VCALENDAR
VERSION:2.0
PRODID:-//In Play! magazine - ECPv6.15.20//NONSGML v1.0//EN
CALSCALE:GREGORIAN
METHOD:PUBLISH
X-ORIGINAL-URL:https://inplaymagazine.com
X-WR-CALDESC:Events for In Play! magazine
REFRESH-INTERVAL;VALUE=DURATION:PT1H
X-Robots-Tag:noindex
X-PUBLISHED-TTL:PT1H
BEGIN:VTIMEZONE
TZID:America/Toronto
BEGIN:DAYLIGHT
TZOFFSETFROM:-0500
TZOFFSETTO:-0400
TZNAME:EDT
DTSTART:20240310T070000
END:DAYLIGHT
BEGIN:STANDARD
TZOFFSETFROM:-0400
TZOFFSETTO:-0500
TZNAME:EST
DTSTART:20241103T060000
END:STANDARD
BEGIN:DAYLIGHT
TZOFFSETFROM:-0500
TZOFFSETTO:-0400
TZNAME:EDT
DTSTART:20250309T070000
END:DAYLIGHT
BEGIN:STANDARD
TZOFFSETFROM:-0400
TZOFFSETTO:-0500
TZNAME:EST
DTSTART:20251102T060000
END:STANDARD
BEGIN:DAYLIGHT
TZOFFSETFROM:-0500
TZOFFSETTO:-0400
TZNAME:EDT
DTSTART:20260308T070000
END:DAYLIGHT
BEGIN:STANDARD
TZOFFSETFROM:-0400
TZOFFSETTO:-0500
TZNAME:EST
DTSTART:20261101T060000
END:STANDARD
END:VTIMEZONE
BEGIN:VEVENT
DTSTART;TZID=America/Toronto:20251002T202000
DTEND;TZID=America/Toronto:20251002T230000
DTSTAMP:20260425T215504
CREATED:20250930T170541Z
LAST-MODIFIED:20250930T170541Z
UID:126368-1759436400-1759446000@inplaymagazine.com
SUMMARY:Thursday Night Football Week 5 2025
DESCRIPTION:Thursday Night Football Week 5 2025\nNFC West Rivals Clash: 49ers vs. Rams on Thursday Night Football\nThe stage is set for a pivotal NFC West showdown as the San Francisco 49ers (3-1) travel to SoFi Stadium to face the Los Angeles Rams (3-1) on Thursday Night Football\, October 2\, 2025. This highly anticipated divisional matchup kicks off at 8:15 PM ET on Amazon Prime Video\, with both teams looking to gain an edge in what’s shaping up to be a competitive race for the division crown. \nCurrent Standings\nBoth the 49ers and Rams enter Week 5 with identical 3-1 records\, creating a logjam near the top of the NFC West standings. These two California rivals have shown flashes of brilliance in the opening month of the season\, positioning themselves as legitimate playoff contenders in the conference. \nRecent Performances\nThe Rams come into this matchup with momentum after an impressive 27-20 victory over the Indianapolis Colts in Week 4. Quarterback Matthew Stafford connected with speedy receiver Tutu Atwell for a game-changing 88-yard touchdown that proved to be the difference-maker. \nMeanwhile\, the 49ers are looking to bounce back after suffering their first defeat of the 2025 campaign at the hands of the Jacksonville Jaguars. Despite the return of quarterback Brock Purdy from a turf toe injury\, costly turnovers—including a late fumble—sealed San Francisco’s fate. \nKey Players to Watch\nFor Los Angeles\, Matthew Stafford continues to demonstrate why he remains one of the league’s elite quarterbacks. His ability to connect on deep passes\, as evidenced by last week’s bomb to Atwell\, makes the Rams’ offense dangerous from anywhere on the field. Head coach Sean McVay will be looking for a complete four-quarter performance from his squad\, something they’ve shown glimpses of but haven’t fully achieved this season. \nOn the San Francisco side\, all eyes will be on Brock Purdy as he continues to work his way back to full strength following his toe injury. In his return against Jacksonville\, Purdy completed 22 of 38 pass attempts for 309 yards with two touchdowns and two interceptions. The dual-threat capabilities of running back Christian McCaffrey\, who led the 49ers with both 49 rushing yards and 92 receiving yards last week\, will be crucial to their offensive game plan. \nDefense and Game Outlook\nBoth teams boast formidable defenses\, with the 49ers ranked 4th and the Rams 8th in defensive EPA per play entering Week 4. Despite the defensive strength on both sides\, oddsmakers have set the total near 50 points\, though history suggests this divisional matchup could be a lower-scoring affair. \nThe Rams are currently favored by 5.5 points\, likely influenced by the 49ers’ injury concerns and the home-field advantage at SoFi Stadium. \nGame Significance\nThis early-season divisional clash could have significant implications for the NFC West race and potential playoff seeding. A win for either team would not only improve their record to 4-1 but also provide a valuable tie-breaker within the division.
URL:https://inplaymagazine.com/events/thursday-night-football-week-5-2025/
LOCATION:SoFi Stadium\, 1000 S Prairie Ave\, Inglewood\, CA\, 90301\, United States
CATEGORIES:NFL
ATTACH;FMTTYPE=image/webp:https://inplaymagazine.com/wp-content/uploads/2023/10/NFL-Schedule.webp
END:VEVENT
END:VCALENDAR