BEGIN:VCALENDAR
VERSION:2.0
PRODID:-//In Play! magazine - ECPv6.15.20//NONSGML v1.0//EN
CALSCALE:GREGORIAN
METHOD:PUBLISH
X-WR-CALNAME:In Play! magazine
X-ORIGINAL-URL:https://inplaymagazine.com
X-WR-CALDESC:Events for In Play! magazine
REFRESH-INTERVAL;VALUE=DURATION:PT1H
X-Robots-Tag:noindex
X-PUBLISHED-TTL:PT1H
BEGIN:VTIMEZONE
TZID:America/Toronto
BEGIN:DAYLIGHT
TZOFFSETFROM:-0500
TZOFFSETTO:-0400
TZNAME:EDT
DTSTART:20240310T070000
END:DAYLIGHT
BEGIN:STANDARD
TZOFFSETFROM:-0400
TZOFFSETTO:-0500
TZNAME:EST
DTSTART:20241103T060000
END:STANDARD
BEGIN:DAYLIGHT
TZOFFSETFROM:-0500
TZOFFSETTO:-0400
TZNAME:EDT
DTSTART:20250309T070000
END:DAYLIGHT
BEGIN:STANDARD
TZOFFSETFROM:-0400
TZOFFSETTO:-0500
TZNAME:EST
DTSTART:20251102T060000
END:STANDARD
BEGIN:DAYLIGHT
TZOFFSETFROM:-0500
TZOFFSETTO:-0400
TZNAME:EDT
DTSTART:20260308T070000
END:DAYLIGHT
BEGIN:STANDARD
TZOFFSETFROM:-0400
TZOFFSETTO:-0500
TZNAME:EST
DTSTART:20261101T060000
END:STANDARD
END:VTIMEZONE
BEGIN:VEVENT
DTSTART;TZID=America/Toronto:20251009T201500
DTEND;TZID=America/Toronto:20251009T223000
DTSTAMP:20260425T140610
CREATED:20251007T165307Z
LAST-MODIFIED:20251007T171345Z
UID:127129-1760040900-1760049000@inplaymagazine.com
SUMMARY:Thursday Night Football Week 6
DESCRIPTION:Thursday Night Football Week 6\n\nBattle in the Meadowlands: Eagles Soar into MetLife for Thursday Night Clash with Giants\nThe bright lights of Thursday Night Football will shine on MetLife Stadium this week as the struggling New York Giants (1-4) host their division rivals\, the Philadelphia Eagles (4-1)\, in what promises to be an intense NFC East showdown on October 9\, 2025. \nTale of Two Trajectories\nThe Eagles enter Week 6 as one of the NFL’s top contenders despite suffering their first loss of the season last Sunday\, falling 21-17 to the Denver Broncos in a game where they surrendered 18 points in the final quarter. Despite the setback\, Philadelphia has impressed with victories over formidable opponents including the Cowboys\, Chiefs\, Rams\, and Buccaneers. \nMeanwhile\, the Giants continue to struggle\, coming off a disappointing 26-14 loss to the New Orleans Saints that dropped them to 1-4. Their lone victory this season came against the Los Angeles Chargers in Week 4\, a brief bright spot in an otherwise challenging campaign. \nHomecoming for Barkley\nPerhaps the most compelling storyline surrounds Eagles running back Saquon Barkley\, who returns to face his former team after signing with Philadelphia in free agency last offseason. After helping the Eagles capture a Super Bowl title last season against the Kansas City Chiefs\, Barkley will be looking for his first 100+ yard rushing game of 2025 against a Giants defense that ranks 26th against the run. \n“Facing your former team always brings extra motivation\,” noted NFL analyst Tyler Henry. “The Giants’ run defense has been vulnerable\, and this could be Barkley’s breakout game of the season.” \nInjury Concerns Mount for Giants\nThe Giants’ offensive woes were compounded when star receiver Malik Nabers suffered a season-ending ACL tear\, leaving rookie quarterback Jaxson Dart without his primary target. Dart\, who is dealing with a hamstring issue himself\, faces the daunting task of navigating a depleted receiving corps against Philadelphia’s talented secondary. \nAdditional concerns for New York include wide receiver Darius Slayton (hamstring)\, right tackle Jermaine Eluemunor (back)\, and linebacker Swayze Bozeman (ankle) – all of whom were listed as “DNP” (Did Not Practice) on Monday’s injury report. \nThe Eagles are monitoring Barkley (knee) and offensive guard Landon Dickerson (ankle)\, though both are expected to be available for Thursday’s contest. \nGiants’ Young Talent Shows Promise\nDespite their struggles\, the Giants have seen promising development from tight end Theo Johnson\, who has emerged as a reliable target with three touchdowns in Dart’s first two starts as quarterback. Johnson’s ability to work the middle of the field could be crucial against an aggressive Eagles defense. \nWhat’s at Stake\nFor Philadelphia\, this game represents an opportunity to maintain their position atop the NFC East and bounce back from last week’s unexpected loss. The Giants\, meanwhile\, are fighting to salvage their season and build momentum with their young core. \nThis matchup marks the first of two meetings between these rivals in a 17-day span\, with the teams set to face off again in Week 8\, adding another layer of intrigue to this historic divisional rivalry. \nKickoff is scheduled for 8:15 PM ET at MetLife Stadium.
URL:https://inplaymagazine.com/events/thursday-night-football-week-6-2/
LOCATION:PA
CATEGORIES:NFL
ATTACH;FMTTYPE=image/webp:https://inplaymagazine.com/wp-content/uploads/2023/10/NFL-Schedule.webp
END:VEVENT
END:VCALENDAR