BEGIN:VCALENDAR
VERSION:2.0
PRODID:-//In Play! magazine - ECPv6.15.20//NONSGML v1.0//EN
CALSCALE:GREGORIAN
METHOD:PUBLISH
X-WR-CALNAME:In Play! magazine
X-ORIGINAL-URL:https://inplaymagazine.com
X-WR-CALDESC:Events for In Play! magazine
REFRESH-INTERVAL;VALUE=DURATION:PT1H
X-Robots-Tag:noindex
X-PUBLISHED-TTL:PT1H
BEGIN:VTIMEZONE
TZID:America/Toronto
BEGIN:DAYLIGHT
TZOFFSETFROM:-0500
TZOFFSETTO:-0400
TZNAME:EDT
DTSTART:20240310T070000
END:DAYLIGHT
BEGIN:STANDARD
TZOFFSETFROM:-0400
TZOFFSETTO:-0500
TZNAME:EST
DTSTART:20241103T060000
END:STANDARD
BEGIN:DAYLIGHT
TZOFFSETFROM:-0500
TZOFFSETTO:-0400
TZNAME:EDT
DTSTART:20250309T070000
END:DAYLIGHT
BEGIN:STANDARD
TZOFFSETFROM:-0400
TZOFFSETTO:-0500
TZNAME:EST
DTSTART:20251102T060000
END:STANDARD
BEGIN:DAYLIGHT
TZOFFSETFROM:-0500
TZOFFSETTO:-0400
TZNAME:EDT
DTSTART:20260308T070000
END:DAYLIGHT
BEGIN:STANDARD
TZOFFSETFROM:-0400
TZOFFSETTO:-0500
TZNAME:EST
DTSTART:20261101T060000
END:STANDARD
END:VTIMEZONE
BEGIN:VEVENT
DTSTART;TZID=America/Toronto:20251023T201500
DTEND;TZID=America/Toronto:20251023T223000
DTSTAMP:20260424T012829
CREATED:20251021T144412Z
LAST-MODIFIED:20251021T145915Z
UID:128916-1761250500-1761258600@inplaymagazine.com
SUMMARY:Thursday Night Football Week 8 2025
DESCRIPTION:Thursday Night Football Week 8 2025\nThursday Night Showdown: Chargers Host Vikings in Critical Midseason Clash\nAs Week 8 of the 2025 NFL season kicks off\, the Los Angeles Chargers (4-3) will welcome the Minnesota Vikings (3-3) to SoFi Stadium on Thursday\, October 23rd. This prime-time matchup features two teams looking to rebound from recent losses and gain momentum heading into the season’s second half. \nTeams at a Crossroads \nThe Chargers enter this contest having dropped three of their last four games\, including a disappointing 38-24 loss to Indianapolis last Sunday. Despite their recent struggles\, they’ve managed to maintain a winning record under first-year head coach Jim Harbaugh’s leadership. \nMinnesota\, meanwhile\, is coming off a 28-22 defeat to Philadelphia\, continuing their pattern of alternating wins and losses this season. The Vikings’ inconsistent play has them sitting at .500 and looking to avoid falling below that mark for the first time this season. \nKey Players to Watch \nJustin Herbert remains the focal point of the Chargers’ offense\, throwing for 1\,913 yards with 13 touchdowns and 6 interceptions through seven games. His favorite target\, veteran receiver Keenan Allen\, has recorded 44 receptions for 435 yards and 4 touchdowns despite facing constant double teams. \nThe Vikings will likely continue to rely on veteran quarterback Carson Wentz (1\,072 yards\, 5 TDs\, 4 INTs)\, as rookie J.J. McCarthy remains sidelined with an ankle injury. Star wideout Justin Jefferson leads Minnesota’s receiving corps with 34 catches for 528 yards\, though he’s found the end zone just once this season. \nBattle in the Trenches \nBoth teams have been plagued by offensive line injuries. The Chargers have allowed a league-high 119 pressures on Herbert this season\, while the Vikings’ pass protection has been significantly better\, ranking ninth in the NFL according to PFF metrics. \nLos Angeles has found success on the ground despite losing their top two running backs\, averaging an impressive 4.9 yards per carry (third-best in the NFL). The Vikings’ run defense vulnerabilities could prove problematic against the Chargers’ ground attack. \nInjury Concerns \nThe injury report looms large for both squads. Minnesota will be without starting running back Aaron Jones (IR) and center Ryan Kelly\, while Los Angeles continues to deal with significant offensive line issues\, including injuries to tackles Joe Alt and Trey Pipkens. \nGame Impact \nWith both teams sitting in the middle of their respective division standings\, this matchup carries significant playoff implications. The winner maintains positioning in the crowded NFC and AFC postseason races\, while the loser faces an increasingly difficult path to January football. \nLas Vegas oddsmakers have installed the Chargers as 3.5-point favorites\, with the over/under set at 44.5 points\, suggesting a relatively low-scoring affair between these injury-hampered squads. \nAs the bright lights of Thursday Night Football shine on SoFi Stadium\, both teams will be eager to prove they belong in the postseason conversation as the 2025 season approaches its critical second half. \nI’ve created a comprehensive preview of the upcoming Thursday Night Football clash between the Los Angeles Chargers and Minnesota Vikings. The article covers all the key elements you requested: \nThe preview examines both teams’ current standings\, with the Chargers at 4-3 and Vikings at 3-3\, highlighting their recent struggles. I’ve included details about key players like Justin Herbert (1\,913 passing yards\, 13 TDs) for the Chargers and Carson Wentz (1\,072 passing yards\, 5 TDs) for the Vikings\, along with their top receivers Keenan Allen and Justin Jefferson. \nThe article also addresses significant injury concerns affecting both teams\, including the absence of rookie QB J.J. McCarthy and running back Aaron Jones for Minnesota\, and the Chargers’ offensive line issues. I’ve incorporated statistical context about offensive and defensive performance and outlined the playoff implications of this midseason matchup. \nThe preview concludes with betting information showing the Chargers as 3.5-point favorites with an over/under of 44.5 points\, providing readers with a complete picture of what to expect from this Thursday night showdown at SoFi Stadium.
URL:https://inplaymagazine.com/events/thursday-night-football-week-8-2025/
LOCATION:SoFi Stadium\, 1000 S Prairie Ave\, Inglewood\, CA\, 90301\, United States
CATEGORIES:NFL
ATTACH;FMTTYPE=image/webp:https://inplaymagazine.com/wp-content/uploads/2023/10/NFL-Schedule.webp
END:VEVENT
END:VCALENDAR