BEGIN:VCALENDAR
VERSION:2.0
PRODID:-//In Play! magazine - ECPv6.15.20//NONSGML v1.0//EN
CALSCALE:GREGORIAN
METHOD:PUBLISH
X-ORIGINAL-URL:https://inplaymagazine.com
X-WR-CALDESC:Events for In Play! magazine
REFRESH-INTERVAL;VALUE=DURATION:PT1H
X-Robots-Tag:noindex
X-PUBLISHED-TTL:PT1H
BEGIN:VTIMEZONE
TZID:America/Toronto
BEGIN:DAYLIGHT
TZOFFSETFROM:-0500
TZOFFSETTO:-0400
TZNAME:EDT
DTSTART:20240310T070000
END:DAYLIGHT
BEGIN:STANDARD
TZOFFSETFROM:-0400
TZOFFSETTO:-0500
TZNAME:EST
DTSTART:20241103T060000
END:STANDARD
BEGIN:DAYLIGHT
TZOFFSETFROM:-0500
TZOFFSETTO:-0400
TZNAME:EDT
DTSTART:20250309T070000
END:DAYLIGHT
BEGIN:STANDARD
TZOFFSETFROM:-0400
TZOFFSETTO:-0500
TZNAME:EST
DTSTART:20251102T060000
END:STANDARD
BEGIN:DAYLIGHT
TZOFFSETFROM:-0500
TZOFFSETTO:-0400
TZNAME:EDT
DTSTART:20260308T070000
END:DAYLIGHT
BEGIN:STANDARD
TZOFFSETFROM:-0400
TZOFFSETTO:-0500
TZNAME:EST
DTSTART:20261101T060000
END:STANDARD
END:VTIMEZONE
BEGIN:VEVENT
DTSTART;TZID=America/Toronto:20251026T130000
DTEND;TZID=America/Toronto:20251026T223000
DTSTAMP:20260421T171725
CREATED:20251021T150306Z
LAST-MODIFIED:20251021T150353Z
UID:128921-1761483600-1761517800@inplaymagazine.com
SUMMARY:NFL Schedule Week 8 2025
DESCRIPTION:NFL Schedule Week 8 2025\n\n\n\n\nHome Team \n\n\nVisiting Team \n\n\nDate / Time (ET) \n\n\n\n\nBengals (3 4) \n\n\nJets (0 7) \n\n\nSun Oct 26\, 1:00 pm \n\n\n\n\nEagles (5 2) \n\n\nGiants (2 5) \n\n\nSun Oct 26\, 1:00 pm \n\n\n\n\nFalcons (3 3) \n\n\nDolphins (1 6) \n\n\nSun Oct 26\, 1:00 pm \n\n\n\n\nPanthers (4 3) \n\n\nBills (4 2) \n\n\nSun Oct 26\, 1:00 pm \n\n\n\n\nPatriots (5 2) \n\n\nBrowns (2 5) \n\n\nSun Oct 26\, 1:00 pm \n\n\n\n\nRavens (1 5) \n\n\nBears (4 2) \n\n\nSun Oct 26\, 1:00 pm \n\n\n\n\nTexans (2 4) \n\n\nForty-Niners (5 2) \n\n\nSun Oct 26\, 1:00 pm \n\n\n\n\nSaints (1 6) \n\n\nBuccaneers (5 2) \n\n\nSun Oct 26\, 4:05 pm \n\n\n\n\nBroncos (5 2) \n\n\nCowboys (3 3 1) \n\n\nSun Oct 26\, 4:25 pm \n\n\n\n\nColts (6 1) \n\n\nTitans (1 6) \n\n\nSun Oct 26\, 4:25 pm \n\n\n\n\nSteelers (4 2) \n\n\nPackers (4 1 1) \n\n\nSun Oct 26\, 8:20 pm
URL:https://inplaymagazine.com/events/nfl-schedule-week-8-2025/
LOCATION:PA
CATEGORIES:NFL
ATTACH;FMTTYPE=image/webp:https://inplaymagazine.com/wp-content/uploads/2023/10/NFL-Schedule.webp
END:VEVENT
END:VCALENDAR