BEGIN:VCALENDAR
VERSION:2.0
PRODID:-//In Play! magazine - ECPv6.15.20//NONSGML v1.0//EN
CALSCALE:GREGORIAN
METHOD:PUBLISH
X-ORIGINAL-URL:https://inplaymagazine.com
X-WR-CALDESC:Events for In Play! magazine
REFRESH-INTERVAL;VALUE=DURATION:PT1H
X-Robots-Tag:noindex
X-PUBLISHED-TTL:PT1H
BEGIN:VTIMEZONE
TZID:America/Toronto
BEGIN:DAYLIGHT
TZOFFSETFROM:-0500
TZOFFSETTO:-0400
TZNAME:EDT
DTSTART:20240310T070000
END:DAYLIGHT
BEGIN:STANDARD
TZOFFSETFROM:-0400
TZOFFSETTO:-0500
TZNAME:EST
DTSTART:20241103T060000
END:STANDARD
BEGIN:DAYLIGHT
TZOFFSETFROM:-0500
TZOFFSETTO:-0400
TZNAME:EDT
DTSTART:20250309T070000
END:DAYLIGHT
BEGIN:STANDARD
TZOFFSETFROM:-0400
TZOFFSETTO:-0500
TZNAME:EST
DTSTART:20251102T060000
END:STANDARD
BEGIN:DAYLIGHT
TZOFFSETFROM:-0500
TZOFFSETTO:-0400
TZNAME:EDT
DTSTART:20260308T070000
END:DAYLIGHT
BEGIN:STANDARD
TZOFFSETFROM:-0400
TZOFFSETTO:-0500
TZNAME:EST
DTSTART:20261101T060000
END:STANDARD
END:VTIMEZONE
BEGIN:VEVENT
DTSTART;TZID=America/Toronto:20251027T201500
DTEND;TZID=America/Toronto:20251027T223000
DTSTAMP:20260425T193341
CREATED:20251021T151315Z
LAST-MODIFIED:20251021T151332Z
UID:128923-1761596100-1761604200@inplaymagazine.com
SUMMARY:Monday Night Football Week 8 2025
DESCRIPTION:Monday Night Football Week 8 2025\nMonday Night Showdown: Commanders Travel to Arrowhead to Face Chiefs\nThe bright lights of Monday Night Football will shine on Arrowhead Stadium on October 27\, 2025\, as the Washington Commanders (3-4) travel to Kansas City to face the defending champion Chiefs (4-3) in what promises to be an exciting midseason matchup. \nTeams Trending in Opposite Directions \nThe Chiefs have found their rhythm after a slow start to the season. After beginning the year with two consecutive losses\, Kansas City has won four of their last five games\, including a dominant 31-0 shutout of the Las Vegas Raiders last Sunday. That victory pushed them over .500 for the first time this season and has them positioned to make another postseason run. \nMeanwhile\, the Commanders enter this contest on a two-game losing streak that has dropped them to third place in the competitive NFC East division behind the Philadelphia Eagles (5-2) and Dallas Cowboys (3-3-1). After a promising start with rookie quarterback Jayden Daniels\, Washington’s offense has struggled in recent weeks. \nRookie vs. Legend: The Quarterback Matchup \nThis game features a fascinating quarterback contrast. Kansas City’s Patrick Mahomes continues to cement his legacy as one of the greatest to ever play the position. Through seven games\, Mahomes has shown flashes of his usual brilliance despite some early season struggles with the Chiefs’ revamped receiving corps. \nOn the opposite sideline\, Washington rookie Jayden Daniels has been a revelation. The first-year signal-caller has completed 61% of his passes for 1\,031 yards with 8 touchdowns and only 1 interception through five games. His dual-threat ability has been on display as well\, with 211 rushing yards and a touchdown on the ground. \nKey Players to Watch \nFor the Chiefs\, tight end Travis Kelce remains Mahomes’ most trusted target. His 44-yard catch and run in Week 7 showed he still has big-play ability. Wide receiver Rashee Rice\, who recently returned to action and scored a touchdown in his first game back\, provides an additional weapon in the passing game. \nThe Commanders will rely heavily on their versatile offensive weapons. Deebo Samuel leads the team with 34 receptions for 315 yards and 3 touchdowns\, while veteran tight end Zach Ertz has been a reliable red zone target with 4 touchdowns on the season. Rookie running back Jacory Croskey-Merritt has emerged as Washington’s lead back\, accumulating 377 rushing yards and 4 touchdowns through seven games. \nDefensively\, Washington is led by linebacker Bobby Wagner (73 total tackles) and rookie cornerback Mike Sainristil\, who has already recorded two interceptions. The Chiefs’ defense\, coming off a shutout performance\, will look to make life difficult for the rookie quarterback in the hostile Arrowhead environment. \nHistorical Context \nThe Chiefs have dominated this interconference rivalry in recent years. Kansas City head coach Andy Reid has consistently found ways to exploit Washington’s defensive vulnerabilities\, and Arrowhead Stadium remains one of the most intimidating venues in the NFL\, especially in primetime games. \nGame Significance \nFor Kansas City\, this game represents an opportunity to continue their climb in the AFC standings and build momentum heading into the second half of the season. The Chiefs are entering a critical stretch of games that could define their playoff positioning. \nWashington views this as a potential statement game. A victory over the perennial Super Bowl contenders would legitimize the Commanders as playoff contenders under new head coach Dan Quinn\, who is looking to establish a winning culture after taking over the team this season. \nInjury Concerns \nBoth teams are monitoring several key injuries heading into the matchup. The status of these players will be worth watching throughout the week as it could significantly impact game planning and strategy for both sides. \nAs the NFL season approaches its midpoint\, this Monday night matchup between a rising NFC contender and an established AFC powerhouse provides compelling storylines that extend beyond the final score. For Washington’s young stars\, it’s a measuring stick against the league’s elite. For Kansas City\, it’s another opportunity to prove they remain the team to beat in the NFL.
URL:https://inplaymagazine.com/events/monday-night-football-week-8-2025/
LOCATION:Arrowhead Stadium\, 1 Arrowhead Dr\, Kansas City\, MO\, United States
CATEGORIES:NFL
ATTACH;FMTTYPE=image/webp:https://inplaymagazine.com/wp-content/uploads/2023/10/NFL-Schedule.webp
END:VEVENT
END:VCALENDAR