BEGIN:VCALENDAR
VERSION:2.0
PRODID:-//In Play! magazine - ECPv6.15.20//NONSGML v1.0//EN
CALSCALE:GREGORIAN
METHOD:PUBLISH
X-WR-CALNAME:In Play! magazine
X-ORIGINAL-URL:https://inplaymagazine.com
X-WR-CALDESC:Events for In Play! magazine
REFRESH-INTERVAL;VALUE=DURATION:PT1H
X-Robots-Tag:noindex
X-PUBLISHED-TTL:PT1H
BEGIN:VTIMEZONE
TZID:America/Toronto
BEGIN:DAYLIGHT
TZOFFSETFROM:-0500
TZOFFSETTO:-0400
TZNAME:EDT
DTSTART:20240310T070000
END:DAYLIGHT
BEGIN:STANDARD
TZOFFSETFROM:-0400
TZOFFSETTO:-0500
TZNAME:EST
DTSTART:20241103T060000
END:STANDARD
BEGIN:DAYLIGHT
TZOFFSETFROM:-0500
TZOFFSETTO:-0400
TZNAME:EDT
DTSTART:20250309T070000
END:DAYLIGHT
BEGIN:STANDARD
TZOFFSETFROM:-0400
TZOFFSETTO:-0500
TZNAME:EST
DTSTART:20251102T060000
END:STANDARD
BEGIN:DAYLIGHT
TZOFFSETFROM:-0500
TZOFFSETTO:-0400
TZNAME:EDT
DTSTART:20260308T070000
END:DAYLIGHT
BEGIN:STANDARD
TZOFFSETFROM:-0400
TZOFFSETTO:-0500
TZNAME:EST
DTSTART:20261101T060000
END:STANDARD
END:VTIMEZONE
BEGIN:VEVENT
DTSTART;TZID=America/Toronto:20251101T130000
DTEND;TZID=America/Toronto:20251101T143000
DTSTAMP:20260422T021120
CREATED:20251026T164440Z
LAST-MODIFIED:20251026T164440Z
UID:129535-1762002000-1762007400@inplaymagazine.com
SUMMARY:OUA Football Semi-Finals Lancers vs Gaels
DESCRIPTION:OUA Football Semi-Finals Lancers vs Gaels\nIn a highly anticipated Ontario University Association (OUA) football playoff clash\, the Windsor Lancers (6-3) will host Queen’s University Gaels (6-3) on November 1\, 2025\, in a rematch of their thrilling October encounter. Windsor enters the contest riding the momentum of three consecutive victories\, including a 31-28 win over these same Gaels just two weeks ago at Richardson Stadium. \nThe Lancers’ ground attack has been their offensive catalyst\, averaging 190.6 rushing yards per game. Their defensive unit has shown remarkable improvement\, allowing just 19.4 points per game this season. Windsor’s October 18 victory against Queen’s demonstrated their ability to control possession\, holding the ball for over 32 minutes while accumulating 271 rushing yards on 37 carries. \nQueen’s enters this playoff battle after an impressive 46-10 quarterfinal victory over McMaster last weekend. The Gaels boast one of the OUA’s most explosive offenses\, averaging 40.8 points and nearly 500 yards per game\, including 312.4 through the air. Head coach Steve Snyder\, in his fifth season at the helm (26-12 overall record)\, will rely on his team’s passing prowess to overcome Windsor’s stout defense. \nThis matchup features intriguing storylines beyond the numbers. Windsor seeks to prove their regular season victory was no fluke\, while Queen’s aims to avenge that loss on the road. The winner advances closer to the Yates Cup\, with a potential championship game looming on November 8. \nBoth teams feature standout performers heading to the next level\, with the Gaels having multiple players currently on CFL rosters\, including Montreal Alouettes’ Theo Grant. Windsor’s home-field advantage could prove decisive in what promises to be another close battle between these evenly matched programs fighting for playoff survival.
URL:https://inplaymagazine.com/events/oua-football-semi-finals-lancers-vs-gaels/
LOCATION:Alumni Field
CATEGORIES:Windsor Lancers
ATTACH;FMTTYPE=image/webp:https://inplaymagazine.com/wp-content/uploads/2025/10/Windsor-Lancers-vs-Ottawa-Gee-Gees-October-25-2025-In-Play-magazine-2.webp
END:VEVENT
END:VCALENDAR