BEGIN:VCALENDAR
VERSION:2.0
PRODID:-//In Play! magazine - ECPv6.15.20//NONSGML v1.0//EN
CALSCALE:GREGORIAN
METHOD:PUBLISH
X-ORIGINAL-URL:https://inplaymagazine.com
X-WR-CALDESC:Events for In Play! magazine
REFRESH-INTERVAL;VALUE=DURATION:PT1H
X-Robots-Tag:noindex
X-PUBLISHED-TTL:PT1H
BEGIN:VTIMEZONE
TZID:America/Toronto
BEGIN:DAYLIGHT
TZOFFSETFROM:-0500
TZOFFSETTO:-0400
TZNAME:EDT
DTSTART:20240310T070000
END:DAYLIGHT
BEGIN:STANDARD
TZOFFSETFROM:-0400
TZOFFSETTO:-0500
TZNAME:EST
DTSTART:20241103T060000
END:STANDARD
BEGIN:DAYLIGHT
TZOFFSETFROM:-0500
TZOFFSETTO:-0400
TZNAME:EDT
DTSTART:20250309T070000
END:DAYLIGHT
BEGIN:STANDARD
TZOFFSETFROM:-0400
TZOFFSETTO:-0500
TZNAME:EST
DTSTART:20251102T060000
END:STANDARD
BEGIN:DAYLIGHT
TZOFFSETFROM:-0500
TZOFFSETTO:-0400
TZNAME:EDT
DTSTART:20260308T070000
END:DAYLIGHT
BEGIN:STANDARD
TZOFFSETFROM:-0400
TZOFFSETTO:-0500
TZNAME:EST
DTSTART:20261101T060000
END:STANDARD
END:VTIMEZONE
BEGIN:VEVENT
DTSTART;TZID=America/Toronto:20251111T080000
DTEND;TZID=America/Toronto:20251111T170000
DTSTAMP:20260422T014112
CREATED:20251112T021202Z
LAST-MODIFIED:20251112T021202Z
UID:131274-1762848000-1762880400@inplaymagazine.com
SUMMARY:NFL Schedule Week 11 2025
DESCRIPTION:NFL Schedule Week 11 2025\n\n\n\n\nHome Team \n\n\nVisiting Team \n\n\nDate / Time (ET) \n\n\n\n\nDolphins (3 7) \n\n\nCommanders (3 7) \n\n\nSun Nov 16\, 9:30 am \n\n\n\n\nBills (6 3) \n\n\nBuccaneers (6 3) \n\n\nSun Nov 16\, 1:00 pm \n\n\n\n\nFalcons (3 6) \n\n\nPanthers (5 5) \n\n\nSun Nov 16\, 1:00 pm \n\n\n\n\nGiants (2 8) \n\n\nPackers (5 3 1) \n\n\nSun Nov 16\, 1:00 pm \n\n\n\n\nJaguars (5 4) \n\n\nChargers (7 3) \n\n\nSun Nov 16\, 1:00 pm \n\n\n\n\nSteelers (5 4) \n\n\nBengals (3 6) \n\n\nSun Nov 16\, 1:00 pm \n\n\n\n\nTitans (1 8) \n\n\nTexans (4 5) \n\n\nSun Nov 16\, 1:00 pm \n\n\n\n\nVikings (4 5) \n\n\nBears (6 3) \n\n\nSun Nov 16\, 1:00 pm \n\n\n\n\nCardinals (3 6) \n\n\nForty-Niners (6 4) \n\n\nSun Nov 16\, 4:05 pm \n\n\n\n\nRams (7 2) \n\n\nSeahawks (7 2) \n\n\nSun Nov 16\, 4:05 pm \n\n\n\n\nBroncos (8 2) \n\n\nChiefs (5 4) \n\n\nSun Nov 16\, 4:25 pm \n\n\n\n\nBrowns (2 7) \n\n\nRavens (4 5) \n\n\nSun Nov 16\, 4:25 pm \n\n\n\n\nEagles (7 2) \n\n\nLions (6 3) \n\n\nSun Nov 16\, 8:20 pm
URL:https://inplaymagazine.com/events/nfl-schedule-week-11-2025/
LOCATION:PA
CATEGORIES:NFL
ATTACH;FMTTYPE=image/webp:https://inplaymagazine.com/wp-content/uploads/2023/10/NFL-Schedule.webp
END:VEVENT
END:VCALENDAR