BEGIN:VCALENDAR
VERSION:2.0
PRODID:-//In Play! magazine - ECPv6.15.20//NONSGML v1.0//EN
CALSCALE:GREGORIAN
METHOD:PUBLISH
X-WR-CALNAME:In Play! magazine
X-ORIGINAL-URL:https://inplaymagazine.com
X-WR-CALDESC:Events for In Play! magazine
REFRESH-INTERVAL;VALUE=DURATION:PT1H
X-Robots-Tag:noindex
X-PUBLISHED-TTL:PT1H
BEGIN:VTIMEZONE
TZID:America/Toronto
BEGIN:DAYLIGHT
TZOFFSETFROM:-0500
TZOFFSETTO:-0400
TZNAME:EDT
DTSTART:20240310T070000
END:DAYLIGHT
BEGIN:STANDARD
TZOFFSETFROM:-0400
TZOFFSETTO:-0500
TZNAME:EST
DTSTART:20241103T060000
END:STANDARD
BEGIN:DAYLIGHT
TZOFFSETFROM:-0500
TZOFFSETTO:-0400
TZNAME:EDT
DTSTART:20250309T070000
END:DAYLIGHT
BEGIN:STANDARD
TZOFFSETFROM:-0400
TZOFFSETTO:-0500
TZNAME:EST
DTSTART:20251102T060000
END:STANDARD
BEGIN:DAYLIGHT
TZOFFSETFROM:-0500
TZOFFSETTO:-0400
TZNAME:EDT
DTSTART:20260308T070000
END:DAYLIGHT
BEGIN:STANDARD
TZOFFSETFROM:-0400
TZOFFSETTO:-0500
TZNAME:EST
DTSTART:20261101T060000
END:STANDARD
END:VTIMEZONE
BEGIN:VEVENT
DTSTART;TZID=America/Toronto:20251130T130000
DTEND;TZID=America/Toronto:20251130T233000
DTSTAMP:20260421T172159
CREATED:20251125T180707Z
LAST-MODIFIED:20251125T180707Z
UID:132864-1764507600-1764545400@inplaymagazine.com
SUMMARY:NFL Schedule Week 13 2025
DESCRIPTION:NFL Schedule Week 13 2025\n\n\n\n\nHome Team \n\n\nVisiting Team \n\n\nDate / Time (ET) \n\n\n\n\nBrowns (3 8) \n\n\nForty-Niners (8 4) \n\n\nSun Nov 30\, 1:00 pm \n\n\n\n\nBuccaneers (6 5) \n\n\nCardinals (3 8) \n\n\nSun Nov 30\, 1:00 pm \n\n\n\n\nColts (8 3) \n\n\nTexans (6 5) \n\n\nSun Nov 30\, 1:00 pm \n\n\n\n\nDolphins (4 7) \n\n\nSaints (2 9) \n\n\nSun Nov 30\, 1:00 pm \n\n\n\n\nJets (2 9) \n\n\nFalcons (4 7) \n\n\nSun Nov 30\, 1:00 pm \n\n\n\n\nPanthers (6 6) \n\n\nRams (9 2) \n\n\nSun Nov 30\, 1:00 pm \n\n\n\n\nTitans (1 10) \n\n\nJaguars (7 4) \n\n\nSun Nov 30\, 1:00 pm \n\n\n\n\nSeahawks (8 3) \n\n\nVikings (4 7) \n\n\nSun Nov 30\, 4:05 pm \n\n\n\n\nChargers (7 4) \n\n\nRaiders (2 9) \n\n\nSun Nov 30\, 4:25 pm \n\n\n\n\nSteelers (6 5) \n\n\nBills (7 4) \n\n\nSun Nov 30\, 4:25 pm \n\n\n\n\nCommanders (3 8) \n\n\nBroncos (9 2) \n\n\nSun Nov 30\, 8:20 pm
URL:https://inplaymagazine.com/events/nfl-schedule-week-13-2025/
LOCATION:PA
CATEGORIES:NFL
ATTACH;FMTTYPE=image/webp:https://inplaymagazine.com/wp-content/uploads/2023/10/NFL-Schedule.webp
END:VEVENT
END:VCALENDAR