BEGIN:VCALENDAR
VERSION:2.0
PRODID:-//In Play! magazine - ECPv6.15.20//NONSGML v1.0//EN
CALSCALE:GREGORIAN
METHOD:PUBLISH
X-ORIGINAL-URL:https://inplaymagazine.com
X-WR-CALDESC:Events for In Play! magazine
REFRESH-INTERVAL;VALUE=DURATION:PT1H
X-Robots-Tag:noindex
X-PUBLISHED-TTL:PT1H
BEGIN:VTIMEZONE
TZID:America/Toronto
BEGIN:DAYLIGHT
TZOFFSETFROM:-0500
TZOFFSETTO:-0400
TZNAME:EDT
DTSTART:20240310T070000
END:DAYLIGHT
BEGIN:STANDARD
TZOFFSETFROM:-0400
TZOFFSETTO:-0500
TZNAME:EST
DTSTART:20241103T060000
END:STANDARD
BEGIN:DAYLIGHT
TZOFFSETFROM:-0500
TZOFFSETTO:-0400
TZNAME:EDT
DTSTART:20250309T070000
END:DAYLIGHT
BEGIN:STANDARD
TZOFFSETFROM:-0400
TZOFFSETTO:-0500
TZNAME:EST
DTSTART:20251102T060000
END:STANDARD
BEGIN:DAYLIGHT
TZOFFSETFROM:-0500
TZOFFSETTO:-0400
TZNAME:EDT
DTSTART:20260308T070000
END:DAYLIGHT
BEGIN:STANDARD
TZOFFSETFROM:-0400
TZOFFSETTO:-0500
TZNAME:EST
DTSTART:20261101T060000
END:STANDARD
END:VTIMEZONE
BEGIN:VEVENT
DTSTART;TZID=America/Toronto:20251218T201500
DTEND;TZID=America/Toronto:20251218T230000
DTSTAMP:20260422T021547
CREATED:20251216T053749Z
LAST-MODIFIED:20251216T053749Z
UID:135074-1766088900-1766098800@inplaymagazine.com
SUMMARY:Thursday Night Football Week 16 2026
DESCRIPTION:Thursday Night Football Week 16\, 2026\nNFC West Supremacy at Stake: Seahawks Host Rams in Critical Thursday Night Showdown\nThe NFL’s Week 16 kicks off with a pivotal NFC West clash as the Seattle Seahawks (11-3) welcome the Los Angeles Rams (11-3) to Lumen Field on Thursday\, December 18\, 2025. With identical records and playoff implications on the line\, this matchup promises to be one of the season’s most consequential games. \nBattle for Division Supremacy \nThe stakes couldn’t be higher for this Thursday night showdown. The winner will claim sole possession of first place in the hotly contested NFC West with just two weeks remaining in the regular season. The Rams currently hold the top spot due to their Week 11 victory over Seattle\, giving them the head-to-head tiebreaker advantage. \n“If Seattle wins\, the season series will be split and the teams will be tied in the division record tiebreaker\,” notes Field Gulls. “If LA wins\, the Rams will have swept the season series and secured the head-to-head tiebreaker.” \nRecent Performances \nBoth teams enter the contest with momentum. The Seahawks barely escaped Week 15 with an 18-16 victory over the Indianapolis Colts\, winning on a last-second field goal. Meanwhile\, the Rams secured their playoff berth after defeating the Detroit Lions in what was described as a “heavyweight fight\,” though the victory came at a cost with concerns surrounding star wide receiver Davante Adams’ health. \nPlayoff Implications \nThe game has significant playoff implications beyond just the division race. The winner maintains pace in the battle for the NFC’s coveted No. 1 seed\, which provides the only first-round bye in the conference playoffs. According to The Athletic’s playoff simulator\, Seattle currently has a 71% chance of winning a wild card berth and a 28% chance of claiming the top seed. \nPlayers to Watch \nFor Seattle\, quarterback Sam Darnold has been orchestrating the offense effectively\, though he’ll need to avoid the turnovers that nearly cost them against Indianapolis. The Rams may need to adjust their offensive game plan if Adams can’t suit up on the short week\, putting more pressure on their ground attack and secondary receiving options. \nHistorical Context \nThe NFC West rivals have a storied history\, with their previous matchup this season going to Los Angeles. Seattle is looking to even the season series at home\, where they traditionally enjoy one of the NFL’s strongest home-field advantages. \nThe Bigger Picture \nWith the San Francisco 49ers (10-4) lurking just a game behind both teams\, neither the Seahawks nor Rams can afford a misstep. The division race could potentially come down to Week 18\, when Seattle travels to face San Francisco in another crucial matchup. \nAs Thursday night approaches\, all eyes will be on Lumen Field for what should be a defining moment in the 2025 NFL season. With playoff positioning\, division supremacy\, and bragging rights all on the line\, this primetime matchup exemplifies why late-season football captivates the nation.
URL:https://inplaymagazine.com/events/thursday-night-football-week-16-2026/
LOCATION:Lumen Field 800 Occidental Avenue South Seattle WA 98134 USA
CATEGORIES:NFL
ATTACH;FMTTYPE=image/webp:https://inplaymagazine.com/wp-content/uploads/2023/10/NFL-Schedule.webp
END:VEVENT
END:VCALENDAR