BEGIN:VCALENDAR
VERSION:2.0
PRODID:-//In Play! magazine - ECPv6.15.20//NONSGML v1.0//EN
CALSCALE:GREGORIAN
METHOD:PUBLISH
X-ORIGINAL-URL:https://inplaymagazine.com
X-WR-CALDESC:Events for In Play! magazine
REFRESH-INTERVAL;VALUE=DURATION:PT1H
X-Robots-Tag:noindex
X-PUBLISHED-TTL:PT1H
BEGIN:VTIMEZONE
TZID:America/Toronto
BEGIN:DAYLIGHT
TZOFFSETFROM:-0500
TZOFFSETTO:-0400
TZNAME:EDT
DTSTART:20240310T070000
END:DAYLIGHT
BEGIN:STANDARD
TZOFFSETFROM:-0400
TZOFFSETTO:-0500
TZNAME:EST
DTSTART:20241103T060000
END:STANDARD
BEGIN:DAYLIGHT
TZOFFSETFROM:-0500
TZOFFSETTO:-0400
TZNAME:EDT
DTSTART:20250309T070000
END:DAYLIGHT
BEGIN:STANDARD
TZOFFSETFROM:-0400
TZOFFSETTO:-0500
TZNAME:EST
DTSTART:20251102T060000
END:STANDARD
BEGIN:DAYLIGHT
TZOFFSETFROM:-0500
TZOFFSETTO:-0400
TZNAME:EDT
DTSTART:20260308T070000
END:DAYLIGHT
BEGIN:STANDARD
TZOFFSETFROM:-0400
TZOFFSETTO:-0500
TZNAME:EST
DTSTART:20261101T060000
END:STANDARD
END:VTIMEZONE
BEGIN:VEVENT
DTSTART;TZID=America/Toronto:20251222T201500
DTEND;TZID=America/Toronto:20251222T230000
DTSTAMP:20260421T145258
CREATED:20251216T054954Z
LAST-MODIFIED:20251216T054954Z
UID:135081-1766434500-1766444400@inplaymagazine.com
SUMMARY:Monday Night Football Week 16 2025
DESCRIPTION:Monday Night Football Week 16 2025\nMonday Night Showdown: 49ers Visit Colts in Crucial Week 16 Matchup\nThe NFL’s Week 16 Monday Night Football spotlight will shine on Lucas Oil Stadium as the Indianapolis Colts (8-6) host the San Francisco 49ers (10-4) on December 22\, 2025. This primetime clash features two playoff hopefuls looking to strengthen their postseason positions as the regular season winds down. \nTeams Heading in Different Directions \nThe 49ers arrive in Indianapolis riding their impressive 10-4 record\, including a strong 6-2 performance on the road. Head coach Kyle Shanahan’s squad has maintained their reputation as NFC contenders despite utilizing backup quarterback Mac Jones\, who has thrown for 2\,151 yards with 13 touchdowns and 6 interceptions this season. \nMeanwhile\, the Colts are attempting to halt a concerning slide after consecutive losses to Jacksonville and Seattle in Weeks 14 and 15. Despite these setbacks\, Indianapolis maintains an 8-6 record and boasts an impressive 6-1 home record at Lucas Oil Stadium\, providing a glimmer of hope for the primetime matchup. \nStar Power on Display \nBoth teams feature dynamic offensive playmakers. San Francisco’s Christian McCaffrey continues to demonstrate his dual-threat capabilities\, accumulating 922 rushing yards with 9 touchdowns on the ground while adding 86 receptions for 820 yards and 5 touchdowns through the air. \nThe Colts counter with their own explosive running back\, Jonathan Taylor\, who has amassed an impressive 1\,443 rushing yards and 16 touchdowns. Wide receiver Alec Pierce has developed into a reliable target in the passing game with 39 receptions for 785 yards. \nInjury Concerns \nIndianapolis faces uncertainty at quarterback with Anthony Richardson Sr. on injured reserve with an orbital injury. His status for Monday’s game remains unclear\, potentially leaving backup duties to continue. \nThe 49ers are monitoring several defensive players listed as questionable\, including Nick Martin (concussion)\, Sam Okuayinonu (ankle)\, and Jordan Elliott (knee). \nPlayoff Implications \nThis matchup carries significant playoff implications for both teams. San Francisco is working to secure its position in the competitive NFC West and potentially earn home-field advantage in the postseason. The Colts\, meanwhile\, are fighting to maintain their playoff positioning in the AFC with divisional games against Jacksonville and Houston looming in the final weeks. \nHistoric Broadcasting First \nBeyond the on-field action\, this game marks a milestone for NFL broadcasting as it becomes the first traditional NFL game broadcast available to stream on Disney+ for standalone subscribers\, in addition to airing on ESPN\, ABC\, and ESPN Deportes. Joe Buck and Troy Aikman will call the action with Lisa Salters and Laura Rutledge reporting from the sidelines. \nThe Oddsmakers’ View \nLas Vegas oddsmakers have installed the visiting 49ers as 5.5-point favorites with an over/under of 45.5 points\, reflecting San Francisco’s stronger overall record despite Indianapolis’ home-field advantage. \nWith playoff aspirations on the line and star talent across both rosters\, this Monday night collision promises to deliver compelling football action as the 2025 NFL season approaches its climactic final weeks.
URL:https://inplaymagazine.com/events/monday-night-football-week-16-2025/
LOCATION:Lucas Oil Stadium\, 500 S Capitol Ave\, Indianapolis\, IN 46225
CATEGORIES:NFL
ATTACH;FMTTYPE=image/webp:https://inplaymagazine.com/wp-content/uploads/2023/10/NFL-Schedule.webp
END:VEVENT
END:VCALENDAR