BEGIN:VCALENDAR
VERSION:2.0
PRODID:-//In Play! magazine - ECPv6.15.20//NONSGML v1.0//EN
CALSCALE:GREGORIAN
METHOD:PUBLISH
X-ORIGINAL-URL:https://inplaymagazine.com
X-WR-CALDESC:Events for In Play! magazine
REFRESH-INTERVAL;VALUE=DURATION:PT1H
X-Robots-Tag:noindex
X-PUBLISHED-TTL:PT1H
BEGIN:VTIMEZONE
TZID:America/Toronto
BEGIN:DAYLIGHT
TZOFFSETFROM:-0500
TZOFFSETTO:-0400
TZNAME:EDT
DTSTART:20240310T070000
END:DAYLIGHT
BEGIN:STANDARD
TZOFFSETFROM:-0400
TZOFFSETTO:-0500
TZNAME:EST
DTSTART:20241103T060000
END:STANDARD
BEGIN:DAYLIGHT
TZOFFSETFROM:-0500
TZOFFSETTO:-0400
TZNAME:EDT
DTSTART:20250309T070000
END:DAYLIGHT
BEGIN:STANDARD
TZOFFSETFROM:-0400
TZOFFSETTO:-0500
TZNAME:EST
DTSTART:20251102T060000
END:STANDARD
BEGIN:DAYLIGHT
TZOFFSETFROM:-0500
TZOFFSETTO:-0400
TZNAME:EDT
DTSTART:20260308T070000
END:DAYLIGHT
BEGIN:STANDARD
TZOFFSETFROM:-0400
TZOFFSETTO:-0500
TZNAME:EST
DTSTART:20261101T060000
END:STANDARD
END:VTIMEZONE
BEGIN:VEVENT
DTSTART;VALUE=DATE:20251228
DTEND;VALUE=DATE:20251230
DTSTAMP:20260422T152313
CREATED:20251118T162750Z
LAST-MODIFIED:20251118T162750Z
UID:132007-1766887200-1766973599@inplaymagazine.com
SUMMARY:Windsor Express Home Opener 2025
DESCRIPTION:Windsor Express Home Opener 2025\nWindsor Express home opener will take place at the WFCU Centre on December 28\, 2025\, marking the start of an exciting season that will run from December through March.
URL:https://inplaymagazine.com/events/windsor-express-home-opener-2025/
LOCATION:WFCU Centre\, 8787 McHugh St\, Windsor\, Ontario\, N8S 0A1\, Canada
CATEGORIES:Basketball
ATTACH;FMTTYPE=image/webp:https://inplaymagazine.com/wp-content/uploads/2025/04/Windsor-Express-vs-Sudbury-Five-Game-4-April-25-2025-In-Play-magazine.webp
ORGANIZER;CN="Windsor Express Basketball":MAILTO:tickets@windsorexpress.ca
END:VEVENT
END:VCALENDAR